BEGIN:VCALENDAR
VERSION:2.0
PRODID:-//USA Race Walking - ECPv6.15.20//NONSGML v1.0//EN
CALSCALE:GREGORIAN
METHOD:PUBLISH
X-ORIGINAL-URL:https://usarw.racewalk.com
X-WR-CALDESC:Events for USA Race Walking
REFRESH-INTERVAL;VALUE=DURATION:PT1H
X-Robots-Tag:noindex
X-PUBLISHED-TTL:PT1H
BEGIN:VTIMEZONE
TZID:UTC
BEGIN:STANDARD
TZOFFSETFROM:+0000
TZOFFSETTO:+0000
TZNAME:UTC
DTSTART:20240101T000000
END:STANDARD
END:VTIMEZONE
BEGIN:VEVENT
DTSTART;TZID=UTC:20250102T200000
DTEND;TZID=UTC:20250102T213000
DTSTAMP:20260424T162104
CREATED:20241227T233842Z
LAST-MODIFIED:20241228T015003Z
UID:302-1735848000-1735853400@usarw.racewalk.com
SUMMARY:2025 Executive Committee Meeting 1
DESCRIPTION:Meeting of the RW Executive Committee \nOnly members of the Committee\, or invited presenters\, may participate. \nOpen to guests\, who must remain muted at all times and may not post in chat. \nGuests must request to attend by emailing Janelle Branch no later than 1/1/25 at 12pm ET. \n 
URL:https://usarw.racewalk.com/event/2025-executive-committee-meeting-1/
CATEGORIES:Committee Meeting
ORGANIZER;CN="Janelle Branch":MAILTO:janellebranch0712@gmail.com
END:VEVENT
END:VCALENDAR