BEGIN:VCALENDAR
VERSION:2.0
PRODID:-//USA Race Walking - ECPv6.15.20//NONSGML v1.0//EN
CALSCALE:GREGORIAN
METHOD:PUBLISH
X-ORIGINAL-URL:https://usarw.racewalk.com
X-WR-CALDESC:Events for USA Race Walking
REFRESH-INTERVAL;VALUE=DURATION:PT1H
X-Robots-Tag:noindex
X-PUBLISHED-TTL:PT1H
BEGIN:VTIMEZONE
TZID:UTC
BEGIN:STANDARD
TZOFFSETFROM:+0000
TZOFFSETTO:+0000
TZNAME:UTC
DTSTART:20240101T000000
END:STANDARD
END:VTIMEZONE
BEGIN:VEVENT
DTSTART;TZID=UTC:20250118T080000
DTEND;TZID=UTC:20250118T170000
DTSTAMP:20260424T162031
CREATED:20241215T025637Z
LAST-MODIFIED:20241215T025637Z
UID:155-1737187200-1737219600@usarw.racewalk.com
SUMMARY:2025 Mondo College Invitational
DESCRIPTION:3000m RW
URL:https://usarw.racewalk.com/event/2025-mondo-college-invitational/
LOCATION:JDL Fast Track\, 2505 Empire Drive\, Winston-Salem\, NC\, 27103\, United States
CATEGORIES:Invitational Meet
END:VEVENT
END:VCALENDAR