BEGIN:VCALENDAR
VERSION:2.0
PRODID:-//USA Race Walking - ECPv6.15.20//NONSGML v1.0//EN
CALSCALE:GREGORIAN
METHOD:PUBLISH
X-WR-CALNAME:USA Race Walking
X-ORIGINAL-URL:https://usarw.racewalk.com
X-WR-CALDESC:Events for USA Race Walking
REFRESH-INTERVAL;VALUE=DURATION:PT1H
X-Robots-Tag:noindex
X-PUBLISHED-TTL:PT1H
BEGIN:VTIMEZONE
TZID:UTC
BEGIN:STANDARD
TZOFFSETFROM:+0000
TZOFFSETTO:+0000
TZNAME:UTC
DTSTART:20240101T000000
END:STANDARD
END:VTIMEZONE
BEGIN:VEVENT
DTSTART;TZID=UTC:20250119T080000
DTEND;TZID=UTC:20250119T103000
DTSTAMP:20260424T162027
CREATED:20241222T222321Z
LAST-MODIFIED:20241222T222321Z
UID:252-1737273600-1737282600@usarw.racewalk.com
SUMMARY:2025 GBTC Invitational
DESCRIPTION:1 Mile – 9:50am combined
URL:https://usarw.racewalk.com/event/2025-gbtc-invitational/
LOCATION:Harvard University Gordon Indoor Track\, 65 N Harvard S\, Boston\, MA\, 02134\, United States
CATEGORIES:Invitational Meet
END:VEVENT
BEGIN:VEVENT
DTSTART;TZID=UTC:20250119T090000
DTEND;TZID=UTC:20250119T150000
DTSTAMP:20260424T162027
CREATED:20241230T185810Z
LAST-MODIFIED:20241230T185810Z
UID:312-1737277200-1737298800@usarw.racewalk.com
SUMMARY:2025 Niagara Indoor Championships
DESCRIPTION:3000m and Race Walk Clinic
URL:https://usarw.racewalk.com/event/2025-niagara-indoor-championships/
LOCATION:Barton Hall\, 117 Statler Drive\, Cornell\, NY\, 14853\, United States
CATEGORIES:Association Championship
END:VEVENT
END:VCALENDAR