BEGIN:VCALENDAR
VERSION:2.0
PRODID:-//USA Race Walking - ECPv6.15.20//NONSGML v1.0//EN
CALSCALE:GREGORIAN
METHOD:PUBLISH
X-ORIGINAL-URL:https://usarw.racewalk.com
X-WR-CALDESC:Events for USA Race Walking
REFRESH-INTERVAL;VALUE=DURATION:PT1H
X-Robots-Tag:noindex
X-PUBLISHED-TTL:PT1H
BEGIN:VTIMEZONE
TZID:UTC
BEGIN:STANDARD
TZOFFSETFROM:+0000
TZOFFSETTO:+0000
TZNAME:UTC
DTSTART:20240101T000000
END:STANDARD
END:VTIMEZONE
BEGIN:VEVENT
DTSTART;TZID=UTC:20250209T080000
DTEND;TZID=UTC:20250209T170000
DTSTAMP:20260424T144819
CREATED:20241214T061439Z
LAST-MODIFIED:20241214T061439Z
UID:130-1739088000-1739120400@usarw.racewalk.com
SUMMARY:2025 USATF Lake Erie Indoor Champs
DESCRIPTION:3000m & 1500m
URL:https://usarw.racewalk.com/event/2025-usatf-lake-erie-indoor-champs/
LOCATION:SPIRE Institute\, 5201 Spire Circle\, Geneva\, OH\, 44041\, United States
CATEGORIES:Association Championship
END:VEVENT
END:VCALENDAR