BEGIN:VCALENDAR
VERSION:2.0
PRODID:-//USA Race Walking - ECPv6.15.20//NONSGML v1.0//EN
CALSCALE:GREGORIAN
METHOD:PUBLISH
X-WR-CALNAME:USA Race Walking
X-ORIGINAL-URL:https://usarw.racewalk.com
X-WR-CALDESC:Events for USA Race Walking
REFRESH-INTERVAL;VALUE=DURATION:PT1H
X-Robots-Tag:noindex
X-PUBLISHED-TTL:PT1H
BEGIN:VTIMEZONE
TZID:UTC
BEGIN:STANDARD
TZOFFSETFROM:+0000
TZOFFSETTO:+0000
TZNAME:UTC
DTSTART:20240101T000000
END:STANDARD
END:VTIMEZONE
BEGIN:VEVENT
DTSTART;TZID=UTC:20250217T210000
DTEND;TZID=UTC:20250217T220000
DTSTAMP:20260424T144710
CREATED:20250213T005110Z
LAST-MODIFIED:20250217T040840Z
UID:412-1739826000-1739829600@usarw.racewalk.com
SUMMARY:2025 Executive Committee Meeting 2
DESCRIPTION:Meeting originally scheduled for this date will be moved to another date\, TBD. Once the new date & time are available\, they’ll be updated in this space and the meeting will be moved on the calendar as needed. \nThanks!!
URL:https://usarw.racewalk.com/event/2025-executive-committee-meeting-2/
CATEGORIES:Committee Meeting
END:VEVENT
END:VCALENDAR