BEGIN:VCALENDAR
VERSION:2.0
PRODID:-//USA Race Walking - ECPv6.15.20//NONSGML v1.0//EN
CALSCALE:GREGORIAN
METHOD:PUBLISH
X-ORIGINAL-URL:https://usarw.racewalk.com
X-WR-CALDESC:Events for USA Race Walking
REFRESH-INTERVAL;VALUE=DURATION:PT1H
X-Robots-Tag:noindex
X-PUBLISHED-TTL:PT1H
BEGIN:VTIMEZONE
TZID:UTC
BEGIN:STANDARD
TZOFFSETFROM:+0000
TZOFFSETTO:+0000
TZNAME:UTC
DTSTART:20240101T000000
END:STANDARD
END:VTIMEZONE
BEGIN:VEVENT
DTSTART;TZID=UTC:20250220T080000
DTEND;TZID=UTC:20250223T170000
DTSTAMP:20260424T144734
CREATED:20241213T230241Z
LAST-MODIFIED:20241213T230349Z
UID:56-1740038400-1740330000@usarw.racewalk.com
SUMMARY:2025 USATF Masters Indoor Championships
DESCRIPTION:Thursday\, February 20\n1500m RW Finals \nFriday\, Febuary 21\n3000m RW Finals
URL:https://usarw.racewalk.com/event/2025-usatf-masters-indoor-championships/
LOCATION:Alachua County Sports & Events Center\, 4870 Celebration Pointe Ave\, Gainesville\, FL\, 32608\, United States
CATEGORIES:National Championship
END:VEVENT
BEGIN:VEVENT
DTSTART;TZID=UTC:20250223T100000
DTEND;TZID=UTC:20250223T160000
DTSTAMP:20260424T144734
CREATED:20241222T035446Z
LAST-MODIFIED:20241222T035446Z
UID:246-1740304800-1740326400@usarw.racewalk.com
SUMMARY:2025 New England Association Championship
DESCRIPTION:3000m
URL:https://usarw.racewalk.com/event/2025-new-england-association-championship/
LOCATION:Harvard University Gordon Indoor Track\, 65 N Harvard S\, Boston\, MA\, 02134\, United States
CATEGORIES:Association Championship
END:VEVENT
END:VCALENDAR