BEGIN:VCALENDAR
VERSION:2.0
PRODID:-//USA Race Walking - ECPv6.15.20//NONSGML v1.0//EN
CALSCALE:GREGORIAN
METHOD:PUBLISH
X-WR-CALNAME:USA Race Walking
X-ORIGINAL-URL:https://usarw.racewalk.com
X-WR-CALDESC:Events for USA Race Walking
REFRESH-INTERVAL;VALUE=DURATION:PT1H
X-Robots-Tag:noindex
X-PUBLISHED-TTL:PT1H
BEGIN:VTIMEZONE
TZID:UTC
BEGIN:STANDARD
TZOFFSETFROM:+0000
TZOFFSETTO:+0000
TZNAME:UTC
DTSTART:20250101T000000
END:STANDARD
END:VTIMEZONE
BEGIN:VEVENT
DTSTART;VALUE=DATE:20260314
DTEND;VALUE=DATE:20260315
DTSTAMP:20260423T174935
CREATED:20250731T191546Z
LAST-MODIFIED:20260205T175905Z
UID:863-1773446400-1773532799@usarw.racewalk.com
SUMMARY:2026 Nike Indoor Nationals
DESCRIPTION:Mile – HS Only
URL:https://usarw.racewalk.com/event/2026-nike-indoor-nationals/
LOCATION:The Armory\, 216 Fort Washington Ave\, New York\, NY\, 10032\, United States
CATEGORIES:National Championship
END:VEVENT
BEGIN:VEVENT
DTSTART;VALUE=DATE:20260314
DTEND;VALUE=DATE:20260315
DTSTAMP:20260423T174935
CREATED:20260203T191531Z
LAST-MODIFIED:20260203T191531Z
UID:1543-1773446400-1773532799@usarw.racewalk.com
SUMMARY:2026 Indiana Indoor Champs
DESCRIPTION:3000m & 1500m
URL:https://usarw.racewalk.com/event/2026-indiana-indoor-champs/
LOCATION:Taylor University\, 1846 Main Street\, Upland\, IN\, 46989\, United States
CATEGORIES:Association Championship
END:VEVENT
END:VCALENDAR