BEGIN:VCALENDAR
VERSION:2.0
PRODID:-//USA Race Walking - ECPv6.15.20//NONSGML v1.0//EN
CALSCALE:GREGORIAN
METHOD:PUBLISH
X-ORIGINAL-URL:https://usarw.racewalk.com
X-WR-CALDESC:Events for USA Race Walking
REFRESH-INTERVAL;VALUE=DURATION:PT1H
X-Robots-Tag:noindex
X-PUBLISHED-TTL:PT1H
BEGIN:VTIMEZONE
TZID:UTC
BEGIN:STANDARD
TZOFFSETFROM:+0000
TZOFFSETTO:+0000
TZNAME:UTC
DTSTART:20250101T000000
END:STANDARD
END:VTIMEZONE
BEGIN:VEVENT
DTSTART;VALUE=DATE:20260411
DTEND;VALUE=DATE:20260412
DTSTAMP:20260423T162429
CREATED:20250917T231641Z
LAST-MODIFIED:20250917T231641Z
UID:1060-1775865600-1775951999@usarw.racewalk.com
SUMMARY:2026 Battle of Sparta
DESCRIPTION:5000m
URL:https://usarw.racewalk.com/event/2026-battle-of-sparta/
LOCATION:McLeod Athletic Park Stadium\, 58 Ave & 214A St\, Langley\, British Columbia\, V2Y 2N5\, Canada
CATEGORIES:Invitational Meet
END:VEVENT
BEGIN:VEVENT
DTSTART;VALUE=DATE:20260411
DTEND;VALUE=DATE:20260412
DTSTAMP:20260423T162429
CREATED:20250917T232303Z
LAST-MODIFIED:20250917T232303Z
UID:1063-1775865600-1775951999@usarw.racewalk.com
SUMMARY:2026 Bronco Invite
DESCRIPTION:5000m
URL:https://usarw.racewalk.com/event/2026-bronco-invite/
LOCATION:Jack Osborne Track Complex\, Ronan Drive\, Hastings\, NE\, 68901\, United States
CATEGORIES:Invitational Meet
END:VEVENT
BEGIN:VEVENT
DTSTART;VALUE=DATE:20260411
DTEND;VALUE=DATE:20260412
DTSTAMP:20260423T162429
CREATED:20260327T200123Z
LAST-MODIFIED:20260327T200123Z
UID:1714-1775865600-1775951999@usarw.racewalk.com
SUMMARY:2026 Fast Break Athletics Invitational
DESCRIPTION:5000m
URL:https://usarw.racewalk.com/event/2026-fast-break-athletics-invitational/
LOCATION:Ray Conn Sports Complex\, N Ocoee St\, Cleveland\, TN\, 37311\, United States
CATEGORIES:Invitational Meet
END:VEVENT
END:VCALENDAR