BEGIN:VCALENDAR
VERSION:2.0
PRODID:-//USA Race Walking - ECPv6.15.20//NONSGML v1.0//EN
CALSCALE:GREGORIAN
METHOD:PUBLISH
X-ORIGINAL-URL:https://usarw.racewalk.com
X-WR-CALDESC:Events for USA Race Walking
REFRESH-INTERVAL;VALUE=DURATION:PT1H
X-Robots-Tag:noindex
X-PUBLISHED-TTL:PT1H
BEGIN:VTIMEZONE
TZID:UTC
BEGIN:STANDARD
TZOFFSETFROM:+0000
TZOFFSETTO:+0000
TZNAME:UTC
DTSTART:20250101T000000
END:STANDARD
END:VTIMEZONE
BEGIN:VEVENT
DTSTART;VALUE=DATE:20260622
DTEND;VALUE=DATE:20260629
DTSTAMP:20260423T192659
CREATED:20260101T032812Z
LAST-MODIFIED:20260101T032812Z
UID:1371-1782086400-1782691199@usarw.racewalk.com
SUMMARY:2026 Youth Outdoor National Championship
DESCRIPTION:1500m (9-12) 3000m (13-18)
URL:https://usarw.racewalk.com/event/2026-youth-outdoor-national-championship/
CATEGORIES:National Championship
END:VEVENT
BEGIN:VEVENT
DTSTART;VALUE=DATE:20260626
DTEND;VALUE=DATE:20260629
DTSTAMP:20260423T192659
CREATED:20250908T035515Z
LAST-MODIFIED:20250908T035515Z
UID:979-1782432000-1782691199@usarw.racewalk.com
SUMMARY:2026 Pan American Senior Championship
DESCRIPTION:TBD
URL:https://usarw.racewalk.com/event/2026-pan-american-senior-championship/
CATEGORIES:Area Championship,WA Calendar Event
END:VEVENT
BEGIN:VEVENT
DTSTART;VALUE=DATE:20260628
DTEND;VALUE=DATE:20260629
DTSTAMP:20260423T192659
CREATED:20260329T145519Z
LAST-MODIFIED:20260329T145519Z
UID:1723-1782604800-1782691199@usarw.racewalk.com
SUMMARY:2026 Mid Atlantic & New Jersey Championship
DESCRIPTION:3000m
URL:https://usarw.racewalk.com/event/2026-mid-atlantic-new-jersey-championship/
LOCATION:Gwynedd Mercy Athletic Complex\, 1300 Sumneytown Pike\, Gwynedd Valley\, PA\, 19437\, United States
CATEGORIES:Association Championship
END:VEVENT
END:VCALENDAR