BEGIN:VCALENDAR
VERSION:2.0
PRODID:-//USA Race Walking - ECPv6.15.20//NONSGML v1.0//EN
CALSCALE:GREGORIAN
METHOD:PUBLISH
X-WR-CALNAME:USA Race Walking
X-ORIGINAL-URL:https://usarw.racewalk.com
X-WR-CALDESC:Events for USA Race Walking
REFRESH-INTERVAL;VALUE=DURATION:PT1H
X-Robots-Tag:noindex
X-PUBLISHED-TTL:PT1H
BEGIN:VTIMEZONE
TZID:UTC
BEGIN:STANDARD
TZOFFSETFROM:+0000
TZOFFSETTO:+0000
TZNAME:UTC
DTSTART:20250101T000000
END:STANDARD
END:VTIMEZONE
BEGIN:VEVENT
DTSTART;VALUE=DATE:20260716
DTEND;VALUE=DATE:20260720
DTSTAMP:20260423T205303
CREATED:20251224T182332Z
LAST-MODIFIED:20251224T182332Z
UID:1314-1784160000-1784505599@usarw.racewalk.com
SUMMARY:2026 USATF Masters Outdoor Championships
DESCRIPTION:5000m & 10 km
URL:https://usarw.racewalk.com/event/2026-usatf-masters-outdoor-championships/
LOCATION:SPIRE Institute\, 5201 Spire Circle\, Geneva\, OH\, 44041\, United States
CATEGORIES:National Championship
END:VEVENT
END:VCALENDAR