BEGIN:VCALENDAR
VERSION:2.0
PRODID:-//USA Race Walking - ECPv6.15.20//NONSGML v1.0//EN
CALSCALE:GREGORIAN
METHOD:PUBLISH
X-WR-CALNAME:USA Race Walking
X-ORIGINAL-URL:https://usarw.racewalk.com
X-WR-CALDESC:Events for USA Race Walking
REFRESH-INTERVAL;VALUE=DURATION:PT1H
X-Robots-Tag:noindex
X-PUBLISHED-TTL:PT1H
BEGIN:VTIMEZONE
TZID:UTC
BEGIN:STANDARD
TZOFFSETFROM:+0000
TZOFFSETTO:+0000
TZNAME:UTC
DTSTART:20260101T000000
END:STANDARD
END:VTIMEZONE
BEGIN:VEVENT
DTSTART;VALUE=DATE:20270618
DTEND;VALUE=DATE:20270621
DTSTAMP:20260424T033844
CREATED:20250908T035800Z
LAST-MODIFIED:20250908T035800Z
UID:983-1813276800-1813535999@usarw.racewalk.com
SUMMARY:2027 Pan American U20 Championship
DESCRIPTION:TBD
URL:https://usarw.racewalk.com/event/2027-pan-american-u20-championship/
CATEGORIES:Area Championship,WA Calendar Event
END:VEVENT
END:VCALENDAR