BEGIN:VCALENDAR
VERSION:2.0
PRODID:-//USA Race Walking - ECPv6.15.20//NONSGML v1.0//EN
CALSCALE:GREGORIAN
METHOD:PUBLISH
X-WR-CALNAME:USA Race Walking
X-ORIGINAL-URL:https://usarw.racewalk.com
X-WR-CALDESC:Events for USA Race Walking
REFRESH-INTERVAL;VALUE=DURATION:PT1H
X-Robots-Tag:noindex
X-PUBLISHED-TTL:PT1H
BEGIN:VTIMEZONE
TZID:UTC
BEGIN:STANDARD
TZOFFSETFROM:+0000
TZOFFSETTO:+0000
TZNAME:UTC
DTSTART:20240101T000000
END:STANDARD
END:VTIMEZONE
BEGIN:VEVENT
DTSTART;TZID=UTC:20251005T120000
DTEND;TZID=UTC:20251005T150000
DTSTAMP:20260424T051039
CREATED:20250829T003308Z
LAST-MODIFIED:20250830T011610Z
UID:913-1759665600-1759676400@usarw.racewalk.com
SUMMARY:2025 University of the Cumberlands 10\,000m Racewalk Invitational
DESCRIPTION:Full event details and registration is located at https://usarw.racewalk.com/2025-univ-of-the-cumberlands-10000m-rw/ \n 
URL:https://usarw.racewalk.com/event/2025-university-of-the-cumberlands-10000m-racewalk-invitational/
LOCATION:James H Taylor Stadium\, 81 Rant St\, Williamsburg\, KY\, 40769\, United States
CATEGORIES:Association Championship,WA Calendar Event
END:VEVENT
BEGIN:VEVENT
DTSTART;TZID=UTC:20251005T140000
DTEND;TZID=UTC:20251005T170000
DTSTAMP:20260424T051039
CREATED:20250917T225737Z
LAST-MODIFIED:20250917T225737Z
UID:1039-1759672800-1759683600@usarw.racewalk.com
SUMMARY:2025 Ozark Virginia R. Mulanax Championship
DESCRIPTION:5000m
URL:https://usarw.racewalk.com/event/2025-ozark-virginia-r-mulanax-championship/
LOCATION:Hixson Middle School\, 630 S. Elm Avenue\, Webster Groves\, MO\, 63119\, United States
CATEGORIES:Association Championship
END:VEVENT
END:VCALENDAR