BEGIN:VCALENDAR
VERSION:2.0
PRODID:-//USA Race Walking - ECPv6.15.20//NONSGML v1.0//EN
CALSCALE:GREGORIAN
METHOD:PUBLISH
X-WR-CALNAME:USA Race Walking
X-ORIGINAL-URL:https://usarw.racewalk.com
X-WR-CALDESC:Events for USA Race Walking
REFRESH-INTERVAL;VALUE=DURATION:PT1H
X-Robots-Tag:noindex
X-PUBLISHED-TTL:PT1H
BEGIN:VTIMEZONE
TZID:UTC
BEGIN:STANDARD
TZOFFSETFROM:+0000
TZOFFSETTO:+0000
TZNAME:UTC
DTSTART:20240101T000000
END:STANDARD
END:VTIMEZONE
BEGIN:VEVENT
DTSTART;VALUE=DATE:20251213
DTEND;VALUE=DATE:20251214
DTSTAMP:20260424T020714
CREATED:20250902T022121Z
LAST-MODIFIED:20251208T205353Z
UID:973-1765584000-1765670399@usarw.racewalk.com
SUMMARY:2025 Southern California Championship
DESCRIPTION:1 hour and 1 mile events
URL:https://usarw.racewalk.com/event/2025-southern-california-championship/
LOCATION:St Anthony High School\, 4832 Clark Ave\, Long Beach\, CA\, 90808\, United States
CATEGORIES:Association Championship
END:VEVENT
END:VCALENDAR