BEGIN:VCALENDAR
VERSION:2.0
PRODID:-//USA Race Walking - ECPv6.15.20//NONSGML v1.0//EN
CALSCALE:GREGORIAN
METHOD:PUBLISH
X-ORIGINAL-URL:https://usarw.racewalk.com
X-WR-CALDESC:Events for USA Race Walking
REFRESH-INTERVAL;VALUE=DURATION:PT1H
X-Robots-Tag:noindex
X-PUBLISHED-TTL:PT1H
BEGIN:VTIMEZONE
TZID:UTC
BEGIN:STANDARD
TZOFFSETFROM:+0000
TZOFFSETTO:+0000
TZNAME:UTC
DTSTART:20250101T000000
END:STANDARD
END:VTIMEZONE
BEGIN:VEVENT
DTSTART;VALUE=DATE:20260627
DTEND;VALUE=DATE:20260628
DTSTAMP:20260423T224939
CREATED:20260328T025820Z
LAST-MODIFIED:20260328T025820Z
UID:1720-1782518400-1782604799@usarw.racewalk.com
SUMMARY:2026 Niagara Championship
DESCRIPTION:Distance TBD
URL:https://usarw.racewalk.com/event/2026-niagara-championship/
LOCATION:Roberts Wesleyan University\, 4269 Buffalo Rd\, Rochester\, NY\, 14514\, United States
CATEGORIES:Association Championship
END:VEVENT
END:VCALENDAR