BEGIN:VCALENDAR
VERSION:2.0
PRODID:-//USA Race Walking - ECPv6.15.20//NONSGML v1.0//EN
CALSCALE:GREGORIAN
METHOD:PUBLISH
X-WR-CALNAME:USA Race Walking
X-ORIGINAL-URL:https://usarw.racewalk.com
X-WR-CALDESC:Events for USA Race Walking
REFRESH-INTERVAL;VALUE=DURATION:PT1H
X-Robots-Tag:noindex
X-PUBLISHED-TTL:PT1H
BEGIN:VTIMEZONE
TZID:UTC
BEGIN:STANDARD
TZOFFSETFROM:+0000
TZOFFSETTO:+0000
TZNAME:UTC
DTSTART:20240101T000000
END:STANDARD
END:VTIMEZONE
BEGIN:VEVENT
DTSTART;TZID=UTC:20251018T110000
DTEND;TZID=UTC:20251018T120000
DTSTAMP:20260424T050633
CREATED:20250909T011446Z
LAST-MODIFIED:20250909T011446Z
UID:994-1760785200-1760788800@usarw.racewalk.com
SUMMARY:2025 NE Walkers RW Clinic
DESCRIPTION:Learn the basics of Race Walking from the experienced athletes of the NE Walkers. Coaches\, athletes & parents may all attend for free. \nEmail newenglandwalkers@gmail.com to register.
URL:https://usarw.racewalk.com/event/2025-ne-walkers-rw-clinic/
LOCATION:Center Recreation Complex\, 90 Worthen Rd\, Lexington\, MA\, 02421\, United States
CATEGORIES:Clinic
END:VEVENT
BEGIN:VEVENT
DTSTART;TZID=UTC:20251005T160000
DTEND;TZID=UTC:20251005T180000
DTSTAMP:20260424T050633
CREATED:20250915T220323Z
LAST-MODIFIED:20250915T220323Z
UID:1021-1759680000-1759687200@usarw.racewalk.com
SUMMARY:2025 CT Race Walkers Clinic
DESCRIPTION:Race Walk Clinic\, Sunday\, Oct. 5th\, Clinton CT\n\n\n4pm\, $15\, at the Peters Recreational Complex Track\, 137 Glenwood Road\, Clinton\, CT\n\n\nRegister by emailing Maryanne at ctracewalk@sbcglobal.net\n\n\n-Try the Race Walking technique for fitness or competition. It is easier on your joints\, yet allows for as much intensity as you wish.\n\n\n-Learn the rolling style that will enable more speed.\n\n\n-Use it to cross train for running\, strengthens hamstrings and upper body with low impact.\n\n\n-Burns more calories than running at the same speed!\n\n\nDo the Oct. 5th clinic\, then come see what you can walk a mile in on Nov. 2nd\, afterwards watch athletes competing in the 5K (3.1 miles) Race Walk State Championship.\n\n\nCall Maryanne/Ron Daniel for more info 203-215-6301 or e-mail ctracewalk@sbcglobal.net
URL:https://usarw.racewalk.com/event/2025-ct-race-walkers-clinic/
LOCATION:Peters Recreational Complex Track\, 137 Glenwood Road\, Clinton\, CT\, 06413\, United States
CATEGORIES:Clinic
END:VEVENT
END:VCALENDAR