BEGIN:VCALENDAR
VERSION:2.0
PRODID:-//USA Race Walking - ECPv6.15.20//NONSGML v1.0//EN
CALSCALE:GREGORIAN
METHOD:PUBLISH
X-ORIGINAL-URL:https://usarw.racewalk.com
X-WR-CALDESC:Events for USA Race Walking
REFRESH-INTERVAL;VALUE=DURATION:PT1H
X-Robots-Tag:noindex
X-PUBLISHED-TTL:PT1H
BEGIN:VTIMEZONE
TZID:UTC
BEGIN:STANDARD
TZOFFSETFROM:+0000
TZOFFSETTO:+0000
TZNAME:UTC
DTSTART:20260101T000000
END:STANDARD
END:VTIMEZONE
BEGIN:VEVENT
DTSTART;VALUE=DATE:20271203
DTEND;VALUE=DATE:20271206
DTSTAMP:20260424T002750
CREATED:20251206T223551Z
LAST-MODIFIED:20251206T223551Z
UID:1222-1827792000-1828051199@usarw.racewalk.com
SUMMARY:2027 USATF Annual Meeting
DESCRIPTION:Indianapolis\, Indiana \nDates TBA
URL:https://usarw.racewalk.com/event/2027-usatf-annual-meeting/
CATEGORIES:Committee Meeting
END:VEVENT
END:VCALENDAR