BEGIN:VCALENDAR
VERSION:2.0
PRODID:-//USA Race Walking - ECPv6.15.20//NONSGML v1.0//EN
CALSCALE:GREGORIAN
METHOD:PUBLISH
X-WR-CALNAME:USA Race Walking
X-ORIGINAL-URL:https://usarw.racewalk.com
X-WR-CALDESC:Events for USA Race Walking
REFRESH-INTERVAL;VALUE=DURATION:PT1H
X-Robots-Tag:noindex
X-PUBLISHED-TTL:PT1H
BEGIN:VTIMEZONE
TZID:UTC
BEGIN:STANDARD
TZOFFSETFROM:+0000
TZOFFSETTO:+0000
TZNAME:UTC
DTSTART:20250101T000000
END:STANDARD
END:VTIMEZONE
BEGIN:VEVENT
DTSTART;VALUE=DATE:20260219
DTEND;VALUE=DATE:20260221
DTSTAMP:20260423T194442
CREATED:20250708T204744Z
LAST-MODIFIED:20250708T204744Z
UID:832-1771459200-1771631999@usarw.racewalk.com
SUMMARY:2026 Appalachian Athletic Conference Championship
DESCRIPTION:3000m
URL:https://usarw.racewalk.com/event/2026-appalachian-athletic-conference-championship/
LOCATION:JDL Fast Track\, 2505 Empire Drive\, Winston-Salem\, NC\, 27103\, United States
CATEGORIES:Conference Championship,WA Calendar Event
END:VEVENT
END:VCALENDAR