BEGIN:VCALENDAR
VERSION:2.0
PRODID:-//USA Race Walking - ECPv6.15.20//NONSGML v1.0//EN
CALSCALE:GREGORIAN
METHOD:PUBLISH
X-WR-CALNAME:USA Race Walking
X-ORIGINAL-URL:https://usarw.racewalk.com
X-WR-CALDESC:Events for USA Race Walking
REFRESH-INTERVAL;VALUE=DURATION:PT1H
X-Robots-Tag:noindex
X-PUBLISHED-TTL:PT1H
BEGIN:VTIMEZONE
TZID:UTC
BEGIN:STANDARD
TZOFFSETFROM:+0000
TZOFFSETTO:+0000
TZNAME:UTC
DTSTART:20240101T000000
END:STANDARD
END:VTIMEZONE
BEGIN:VEVENT
DTSTART;VALUE=DATE:20251213
DTEND;VALUE=DATE:20251214
DTSTAMP:20260423T224318
CREATED:20250917T230442Z
LAST-MODIFIED:20250917T230442Z
UID:1044-1765584000-1765670399@usarw.racewalk.com
SUMMARY:2025 Concordia Early Bird
DESCRIPTION:3000m
URL:https://usarw.racewalk.com/event/2025-concordia-early-bird/
LOCATION:Walz Fieldhouse\, E Hillcrest Dr\, Seward\, NE\, 68434\, United States
CATEGORIES:Invitational Meet
END:VEVENT
BEGIN:VEVENT
DTSTART;VALUE=DATE:20251213
DTEND;VALUE=DATE:20251214
DTSTAMP:20260423T224318
CREATED:20251206T152150Z
LAST-MODIFIED:20251206T152150Z
UID:1211-1765584000-1765670399@usarw.racewalk.com
SUMMARY:2025 Tom Knatt 1 Mile
DESCRIPTION:
URL:https://usarw.racewalk.com/event/2025-tom-knatt-1-mile/
LOCATION:Johnson Athletics Center\, 120 Vassar S\, Cambridge\, MA\, 02139\, United States
CATEGORIES:Invitational Meet
END:VEVENT
BEGIN:VEVENT
DTSTART;VALUE=DATE:20251214
DTEND;VALUE=DATE:20251215
DTSTAMP:20260423T224318
CREATED:20250830T152210Z
LAST-MODIFIED:20250830T152210Z
UID:949-1765670400-1765756799@usarw.racewalk.com
SUMMARY:2025 World Race Walking Tour - Dublin
DESCRIPTION:Distances from 1km through the Marathon
URL:https://usarw.racewalk.com/event/2025-world-race-walking-tour-dublin/
LOCATION:Saint Anne’s Park\, Clontarf East\, Dublin\, 9RCC+P7\, Ireland
CATEGORIES:Invitational Meet,WA Calendar Event
END:VEVENT
BEGIN:VEVENT
DTSTART;VALUE=DATE:20251221
DTEND;VALUE=DATE:20251222
DTSTAMP:20260423T224318
CREATED:20251209T014505Z
LAST-MODIFIED:20251209T014505Z
UID:1240-1766275200-1766361599@usarw.racewalk.com
SUMMARY:2025 PVTC December Indoor Meet
DESCRIPTION:800m\, 1500m\, one mile\, 3000m – all start simultaneously
URL:https://usarw.racewalk.com/event/2025-pvtc-december-indoor-meet/
LOCATION:Thomas Jefferson Community Center\, 3501 2nd Street South\, Arlington\, Virginia\, 22204
CATEGORIES:Invitational Meet
END:VEVENT
BEGIN:VEVENT
DTSTART;VALUE=DATE:20251228
DTEND;VALUE=DATE:20251229
DTSTAMP:20260423T224318
CREATED:20250917T220039Z
LAST-MODIFIED:20251224T193009Z
UID:1024-1766880000-1766966399@usarw.racewalk.com
SUMMARY:2025 Reno Holiday Invite Indoor Track & Field Meet
DESCRIPTION:1500m
URL:https://usarw.racewalk.com/event/2025-reno-holiday-invite-indoor-track-field-meet/
LOCATION:Reno-Sparks Convention Center\, 4590 S Virginia St\, Reno\, NV\, 89502\, United States
CATEGORIES:Invitational Meet
END:VEVENT
BEGIN:VEVENT
DTSTART;VALUE=DATE:20251228
DTEND;VALUE=DATE:20251229
DTSTAMP:20260423T224318
CREATED:20251104T171707Z
LAST-MODIFIED:20251206T223228Z
UID:1145-1766880000-1766966399@usarw.racewalk.com
SUMMARY:2025 Marathon Sports Winter Classic
DESCRIPTION:1 Mile
URL:https://usarw.racewalk.com/event/2025-marathon-sports-winter-classic/
LOCATION:The TRACK at New Balance\, 91 Guest St\, Boston\, MA\, 02135\, United States
CATEGORIES:Invitational Meet
END:VEVENT
END:VCALENDAR