BEGIN:VCALENDAR
VERSION:2.0
PRODID:-//USA Race Walking - ECPv6.15.20//NONSGML v1.0//EN
CALSCALE:GREGORIAN
METHOD:PUBLISH
X-ORIGINAL-URL:https://usarw.racewalk.com
X-WR-CALDESC:Events for USA Race Walking
REFRESH-INTERVAL;VALUE=DURATION:PT1H
X-Robots-Tag:noindex
X-PUBLISHED-TTL:PT1H
BEGIN:VTIMEZONE
TZID:UTC
BEGIN:STANDARD
TZOFFSETFROM:+0000
TZOFFSETTO:+0000
TZNAME:UTC
DTSTART:20250101T000000
END:STANDARD
END:VTIMEZONE
BEGIN:VEVENT
DTSTART;VALUE=DATE:20260321
DTEND;VALUE=DATE:20260322
DTSTAMP:20260423T193031
CREATED:20260312T002025Z
LAST-MODIFIED:20260312T002025Z
UID:1679-1774051200-1774137599@usarw.racewalk.com
SUMMARY:2026 Viking Relays
DESCRIPTION:5000m
URL:https://usarw.racewalk.com/event/2026-viking-relays/
LOCATION:Duke Williams Stadium\, 1591 E University Ave\, Des Moines\, IA\, 50316\, United States
CATEGORIES:Invitational Meet
END:VEVENT
END:VCALENDAR