BEGIN:VCALENDAR
VERSION:2.0
PRODID:-//USA Race Walking - ECPv6.15.20//NONSGML v1.0//EN
CALSCALE:GREGORIAN
METHOD:PUBLISH
X-WR-CALNAME:USA Race Walking
X-ORIGINAL-URL:https://usarw.racewalk.com
X-WR-CALDESC:Events for USA Race Walking
REFRESH-INTERVAL;VALUE=DURATION:PT1H
X-Robots-Tag:noindex
X-PUBLISHED-TTL:PT1H
BEGIN:VTIMEZONE
TZID:UTC
BEGIN:STANDARD
TZOFFSETFROM:+0000
TZOFFSETTO:+0000
TZNAME:UTC
DTSTART:20250101T000000
END:STANDARD
END:VTIMEZONE
BEGIN:VEVENT
DTSTART;VALUE=DATE:20260619
DTEND;VALUE=DATE:20260620
DTSTAMP:20260424T002003
CREATED:20260328T025535Z
LAST-MODIFIED:20260328T025535Z
UID:1717-1781827200-1781913599@usarw.racewalk.com
SUMMARY:2026 Jim Law Invitational
DESCRIPTION:5000m – NC Championship
URL:https://usarw.racewalk.com/event/2026-jim-law-invitational/
LOCATION:Irwin Belk T&F Center – Charlotte\, 8723 Cameron Blvd\, Charlotte\, NC\, 28262\, United States
CATEGORIES:Association Championship,Invitational Meet
END:VEVENT
BEGIN:VEVENT
DTSTART;VALUE=DATE:20260718
DTEND;VALUE=DATE:20260719
DTSTAMP:20260424T002003
CREATED:20251104T172326Z
LAST-MODIFIED:20251104T172326Z
UID:1152-1784332800-1784419199@usarw.racewalk.com
SUMMARY:2026 Bay State Games
DESCRIPTION:3000m
URL:https://usarw.racewalk.com/event/2026-bay-state-games/
LOCATION:Regis College\, 235 Welleslely St\, Weston\, MA\, 02493\, United States
CATEGORIES:Invitational Meet
END:VEVENT
BEGIN:VEVENT
DTSTART;VALUE=DATE:20270124
DTEND;VALUE=DATE:20270125
DTSTAMP:20260424T002003
CREATED:20260402T001640Z
LAST-MODIFIED:20260402T001640Z
UID:1728-1800748800-1800835199@usarw.racewalk.com
SUMMARY:2027 USA Marathon Championship
DESCRIPTION:Santee International Race Walk Invitational events: \nMarathon\, Half Marathon\, 10km\, 5km \nEntry details for all distances\, domestic and international\, will be available in July.
URL:https://usarw.racewalk.com/event/2027_usa_marathon_championship/
LOCATION:Trolley Square Mall\, 9888 Mission Gorge Rd\, Santee\, CA\, 92071\, United States
CATEGORIES:Invitational Meet,National Championship,Team Selection,WA Calendar Event
END:VEVENT
BEGIN:VEVENT
DTSTART;VALUE=DATE:20270131
DTEND;VALUE=DATE:20270201
DTSTAMP:20260424T002003
CREATED:20260302T113823Z
LAST-MODIFIED:20260302T113823Z
UID:1616-1801353600-1801439999@usarw.racewalk.com
SUMMARY:2027 Millrose Games
DESCRIPTION:1 Mile
URL:https://usarw.racewalk.com/event/2027-millrose-games/
LOCATION:The Armory\, 216 Fort Washington Ave\, New York\, NY\, 10032\, United States
CATEGORIES:Invitational Meet,National Championship,WA Calendar Event
END:VEVENT
BEGIN:VEVENT
DTSTART;VALUE=DATE:20270319
DTEND;VALUE=DATE:20270320
DTSTAMP:20260424T002003
CREATED:20260326T165410Z
LAST-MODIFIED:20260326T165410Z
UID:1712-1805414400-1805500799@usarw.racewalk.com
SUMMARY:2027 Alan Connie Shamrock Invite
DESCRIPTION:5000m
URL:https://usarw.racewalk.com/event/2027-alan-connie-shamrock-invite/
LOCATION:Doug Shaw Memorial Stadium\, 705 33rd Ave N\, Myrtle Beach\, SC\, 29577\, United States
CATEGORIES:Invitational Meet
END:VEVENT
END:VCALENDAR