BEGIN:VCALENDAR
VERSION:2.0
PRODID:-//USA Race Walking - ECPv6.15.20//NONSGML v1.0//EN
CALSCALE:GREGORIAN
METHOD:PUBLISH
X-ORIGINAL-URL:https://usarw.racewalk.com
X-WR-CALDESC:Events for USA Race Walking
REFRESH-INTERVAL;VALUE=DURATION:PT1H
X-Robots-Tag:noindex
X-PUBLISHED-TTL:PT1H
BEGIN:VTIMEZONE
TZID:UTC
BEGIN:STANDARD
TZOFFSETFROM:+0000
TZOFFSETTO:+0000
TZNAME:UTC
DTSTART:20260101T000000
END:STANDARD
END:VTIMEZONE
BEGIN:VEVENT
DTSTART;VALUE=DATE:20270726
DTEND;VALUE=DATE:20270802
DTSTAMP:20260424T133937
CREATED:20260101T033924Z
LAST-MODIFIED:20260101T033925Z
UID:1385-1816560000-1817164799@usarw.racewalk.com
SUMMARY:2027 Junior Olympic Championship
DESCRIPTION:1500m (9-12) 3000m (13-18)
URL:https://usarw.racewalk.com/event/2027-junior-olympic-championship/
LOCATION:CA
CATEGORIES:National Championship
END:VEVENT
END:VCALENDAR