BEGIN:VCALENDAR
VERSION:2.0
PRODID:-//USA Race Walking - ECPv6.15.20//NONSGML v1.0//EN
CALSCALE:GREGORIAN
METHOD:PUBLISH
X-ORIGINAL-URL:https://usarw.racewalk.com
X-WR-CALDESC:Events for USA Race Walking
REFRESH-INTERVAL;VALUE=DURATION:PT1H
X-Robots-Tag:noindex
X-PUBLISHED-TTL:PT1H
BEGIN:VTIMEZONE
TZID:UTC
BEGIN:STANDARD
TZOFFSETFROM:+0000
TZOFFSETTO:+0000
TZNAME:UTC
DTSTART:20280101T000000
END:STANDARD
END:VTIMEZONE
BEGIN:VEVENT
DTSTART;VALUE=DATE:20290626
DTEND;VALUE=DATE:20290702
DTSTAMP:20260423T231822
CREATED:20260101T033255Z
LAST-MODIFIED:20260101T033256Z
UID:1377-1877126400-1877644799@usarw.racewalk.com
SUMMARY:2029 Youth Outdoor National Championship
DESCRIPTION:1500m (9-12) 3000m (13-18)
URL:https://usarw.racewalk.com/event/2029-youth-outdoor-national-championship/
CATEGORIES:National Championship
END:VEVENT
BEGIN:VEVENT
DTSTART;VALUE=DATE:20290723
DTEND;VALUE=DATE:20290730
DTSTAMP:20260423T231822
CREATED:20260101T034222Z
LAST-MODIFIED:20260101T034222Z
UID:1389-1879459200-1880063999@usarw.racewalk.com
SUMMARY:2029 Junior Olympic Championship
DESCRIPTION:1500m (9-12) 3000m (13-18)
URL:https://usarw.racewalk.com/event/2029-junior-olympic-championship/
CATEGORIES:National Championship
END:VEVENT
BEGIN:VEVENT
DTSTART;VALUE=DATE:20300625
DTEND;VALUE=DATE:20300701
DTSTAMP:20260423T231822
CREATED:20260101T033415Z
LAST-MODIFIED:20260101T033416Z
UID:1379-1908576000-1909094399@usarw.racewalk.com
SUMMARY:2030 Youth Outdoor National Championship
DESCRIPTION:1500m (9-12) 3000m (13-18)
URL:https://usarw.racewalk.com/event/2030-youth-outdoor-national-championship/
CATEGORIES:National Championship
END:VEVENT
BEGIN:VEVENT
DTSTART;VALUE=DATE:20300722
DTEND;VALUE=DATE:20300729
DTSTAMP:20260423T231822
CREATED:20260101T034330Z
LAST-MODIFIED:20260101T035249Z
UID:1391-1910908800-1911513599@usarw.racewalk.com
SUMMARY:2030 Junior Olympic Championship
DESCRIPTION:1500m (9-12) 3000m (13-18)
URL:https://usarw.racewalk.com/event/2030-junior-olympic-championship/
CATEGORIES:National Championship
END:VEVENT
BEGIN:VEVENT
DTSTART;VALUE=DATE:20310624
DTEND;VALUE=DATE:20310630
DTSTAMP:20260423T231822
CREATED:20260101T033523Z
LAST-MODIFIED:20260101T033523Z
UID:1381-1940025600-1940543999@usarw.racewalk.com
SUMMARY:2031 Youth Outdoor National Championship
DESCRIPTION:1500m (9-12) 3000m (13-18)
URL:https://usarw.racewalk.com/event/2031-youth-outdoor-national-championship/
CATEGORIES:National Championship
END:VEVENT
BEGIN:VEVENT
DTSTART;VALUE=DATE:20310721
DTEND;VALUE=DATE:20310728
DTSTAMP:20260423T231822
CREATED:20260101T034436Z
LAST-MODIFIED:20260101T034436Z
UID:1393-1942358400-1942963199@usarw.racewalk.com
SUMMARY:2031 Junior Olympic Championship
DESCRIPTION:1500m (9-12) 3000m (13-18)
URL:https://usarw.racewalk.com/event/2031-junior-olympic-championship/
CATEGORIES:National Championship
END:VEVENT
BEGIN:VEVENT
DTSTART;VALUE=DATE:20320630
DTEND;VALUE=DATE:20320706
DTSTAMP:20260423T231822
CREATED:20260101T033644Z
LAST-MODIFIED:20260101T033644Z
UID:1383-1972166400-1972684799@usarw.racewalk.com
SUMMARY:2032 Youth Outdoor National Championship
DESCRIPTION:1500m (9-12) 3000m (13-18)
URL:https://usarw.racewalk.com/event/2032-youth-outdoor-national-championship/
CATEGORIES:National Championship
END:VEVENT
BEGIN:VEVENT
DTSTART;VALUE=DATE:20320727
DTEND;VALUE=DATE:20320803
DTSTAMP:20260423T231822
CREATED:20260101T034539Z
LAST-MODIFIED:20260101T034540Z
UID:1395-1974499200-1975103999@usarw.racewalk.com
SUMMARY:2032 Junior Olympic Championship
DESCRIPTION:1500m (9-12) 3000m (13-18)
URL:https://usarw.racewalk.com/event/2032-junior-olympic-championship/
CATEGORIES:National Championship
END:VEVENT
END:VCALENDAR