BEGIN:VCALENDAR
VERSION:2.0
PRODID:-//USA Race Walking - ECPv6.15.20//NONSGML v1.0//EN
CALSCALE:GREGORIAN
METHOD:PUBLISH
X-WR-CALNAME:USA Race Walking
X-ORIGINAL-URL:https://usarw.racewalk.com
X-WR-CALDESC:Events for USA Race Walking
REFRESH-INTERVAL;VALUE=DURATION:PT1H
X-Robots-Tag:noindex
X-PUBLISHED-TTL:PT1H
BEGIN:VTIMEZONE
TZID:UTC
BEGIN:STANDARD
TZOFFSETFROM:+0000
TZOFFSETTO:+0000
TZNAME:UTC
DTSTART:20240101T000000
END:STANDARD
END:VTIMEZONE
BEGIN:VEVENT
DTSTART;VALUE=DATE:20260308
DTEND;VALUE=DATE:20260309
DTSTAMP:20260423T225540
CREATED:20250829T005231Z
LAST-MODIFIED:20260205T040854Z
UID:921-1772928000-1773014399@usarw.racewalk.com
SUMMARY:2026 USATF Race Walking World Team Trials and Invitational - Half Marathon and U20 10km
DESCRIPTION:Open Half Marathon & U20 10 km Team Selection event \nInternational entries will be accepted by age divisions in the above race distances as well. \nSoutheast Region & Florida Association 5 km event will be concurrent. \nEvent Details will be consolidated on this page – https://usarw.racewalk.com/2026-usa-team-trials-invitational/
URL:https://usarw.racewalk.com/event/usatf-race-walking-world-team-trials-and-invitational-half-marathon-and-u20-10km/
LOCATION:Alachua County Sports & Events Center\, 4870 Celebration Pointe Ave\, Gainesville\, FL\, 32608\, United States
CATEGORIES:Association Championship,Invitational Meet,Regional Championship,Team Selection,WA Calendar Event
END:VEVENT
BEGIN:VEVENT
DTSTART;VALUE=DATE:20260201
DTEND;VALUE=DATE:20260202
DTSTAMP:20260423T225540
CREATED:20251206T152826Z
LAST-MODIFIED:20251206T152826Z
UID:1214-1769904000-1769990399@usarw.racewalk.com
SUMMARY:2026 New England & East Region Masters Indoor Championship
DESCRIPTION:3000m
URL:https://usarw.racewalk.com/event/2026-new-england-east-region-masters-indoor-championship/
LOCATION:Providence Career and Technical Academy\, 91 Fricker St\, Providence\, RI\, 02908\, United States
CATEGORIES:Association Championship,Invitational Meet,Regional Championship
END:VEVENT
BEGIN:VEVENT
DTSTART;VALUE=DATE:20260131
DTEND;VALUE=DATE:20260202
DTSTAMP:20260423T225540
CREATED:20251224T182114Z
LAST-MODIFIED:20251224T182114Z
UID:1311-1769817600-1769990399@usarw.racewalk.com
SUMMARY:2026 USATF Masters Southeast Region Indoor Championships
DESCRIPTION:1 Mile & 3000m
URL:https://usarw.racewalk.com/event/2026-usatf-masters-southeast-region-indoor-championships/
LOCATION:Tryon International\, 25 International Blvd\, Mill Spring\, NC\, 28756\, United States
CATEGORIES:Regional Championship
END:VEVENT
BEGIN:VEVENT
DTSTART;VALUE=DATE:20260131
DTEND;VALUE=DATE:20260201
DTSTAMP:20260423T225540
CREATED:20250917T220300Z
LAST-MODIFIED:20251224T181536Z
UID:1027-1769817600-1769903999@usarw.racewalk.com
SUMMARY:2026 Pacific Reno Indoor Track Championships
DESCRIPTION:1500m \nAlso the USATF West and Northwest Masters Regions Indoor Track & Field Championships
URL:https://usarw.racewalk.com/event/2026-pacific-reno-indoor-track-championships/
LOCATION:Reno-Sparks Convention Center\, 4590 S Virginia St\, Reno\, NV\, 89502\, United States
CATEGORIES:Association Championship,Regional Championship
END:VEVENT
BEGIN:VEVENT
DTSTART;VALUE=DATE:20260125
DTEND;VALUE=DATE:20260126
DTSTAMP:20260423T225540
CREATED:20251224T181236Z
LAST-MODIFIED:20251224T181236Z
UID:1307-1769299200-1769385599@usarw.racewalk.com
SUMMARY:2026 USATF Masters Southwest Region Indoor Championships
DESCRIPTION:1 Mile
URL:https://usarw.racewalk.com/event/2026-usatf-masters-southwest-region-indoor-championships/
LOCATION:Yeoman Fieldhouse\, 3728 Francis Street\, Houston\, TX\, 77004\, United States
CATEGORIES:Regional Championship
END:VEVENT
BEGIN:VEVENT
DTSTART;VALUE=DATE:20260125
DTEND;VALUE=DATE:20260126
DTSTAMP:20260423T225540
CREATED:20251224T181001Z
LAST-MODIFIED:20251224T181001Z
UID:1304-1769299200-1769385599@usarw.racewalk.com
SUMMARY:2026 USATF Masters Mid America Region Indoor Championships
DESCRIPTION:TBD
URL:https://usarw.racewalk.com/event/2026-usatf-masters-mid-america-region-indoor-championships/
LOCATION:Fuhrer Field House\, 1469-1573 E 13th St\, Crete\, NE\, 68333\, United States
CATEGORIES:Regional Championship
END:VEVENT
BEGIN:VEVENT
DTSTART;VALUE=DATE:20260118
DTEND;VALUE=DATE:20260119
DTSTAMP:20260423T225540
CREATED:20251224T180403Z
LAST-MODIFIED:20251224T180403Z
UID:1301-1768694400-1768780799@usarw.racewalk.com
SUMMARY:2026 USATF Masters East Region Potomac Valley Open and Masters Indoor Track and Field Championships
DESCRIPTION:3000m
URL:https://usarw.racewalk.com/event/2026-usatf-masters-east-region-potomac-valley-open-and-masters-indoor-track-and-field-championships/
LOCATION:Prince George’s Sports and Learning Center\, 8001 Sheriff Rd\, Landover\, MD\, 20785\, United States
CATEGORIES:Association Championship,Regional Championship
END:VEVENT
BEGIN:VEVENT
DTSTART;TZID=UTC:20250629T080000
DTEND;TZID=UTC:20250629T170000
DTSTAMP:20260423T225540
CREATED:20250407T201530Z
LAST-MODIFIED:20250428T215035Z
UID:603-1751184000-1751216400@usarw.racewalk.com
SUMMARY:2025 Virginia Open & Masters Outdoor Championships
DESCRIPTION:Held concurrently with the 2025 USATF Southeast Region Masters Outdoor Championships \n5000m
URL:https://usarw.racewalk.com/event/2025-virginia-open-masters-outdoor-championships/
LOCATION:JR Tucker High School\, 2910 N Parham Rd\, Henrico\, VA\, 23294\, United States
CATEGORIES:Association Championship,Regional Championship
END:VEVENT
BEGIN:VEVENT
DTSTART;TZID=UTC:20250126T093000
DTEND;TZID=UTC:20250126T150000
DTSTAMP:20260423T225540
CREATED:20250121T214124Z
LAST-MODIFIED:20250121T214124Z
UID:385-1737883800-1737903600@usarw.racewalk.com
SUMMARY:2025 New England and East Region Masters Indoor Championship
DESCRIPTION:3000m RW open to all ages
URL:https://usarw.racewalk.com/event/2025-new-england-and-east-region-masters-indoor-championship/
LOCATION:Providence Career and Technical Academy\, 91 Fricker St\, Providence\, RI\, 02908\, United States
CATEGORIES:Association Championship,Regional Championship
END:VEVENT
END:VCALENDAR