BEGIN:VCALENDAR
VERSION:2.0
PRODID:-//USA Race Walking - ECPv6.15.20//NONSGML v1.0//EN
CALSCALE:GREGORIAN
METHOD:PUBLISH
X-WR-CALNAME:USA Race Walking
X-ORIGINAL-URL:https://usarw.racewalk.com
X-WR-CALDESC:Events for USA Race Walking
REFRESH-INTERVAL;VALUE=DURATION:PT1H
X-Robots-Tag:noindex
X-PUBLISHED-TTL:PT1H
BEGIN:VTIMEZONE
TZID:UTC
BEGIN:STANDARD
TZOFFSETFROM:+0000
TZOFFSETTO:+0000
TZNAME:UTC
DTSTART:20260101T000000
END:STANDARD
END:VTIMEZONE
BEGIN:VEVENT
DTSTART;VALUE=DATE:20270124
DTEND;VALUE=DATE:20270125
DTSTAMP:20260424T002102
CREATED:20260402T001640Z
LAST-MODIFIED:20260402T001640Z
UID:1728-1800748800-1800835199@usarw.racewalk.com
SUMMARY:2027 USA Marathon Championship
DESCRIPTION:Santee International Race Walk Invitational events: \nMarathon\, Half Marathon\, 10km\, 5km \nEntry details for all distances\, domestic and international\, will be available in July.
URL:https://usarw.racewalk.com/event/2027_usa_marathon_championship/
LOCATION:Trolley Square Mall\, 9888 Mission Gorge Rd\, Santee\, CA\, 92071\, United States
CATEGORIES:Invitational Meet,National Championship,Team Selection,WA Calendar Event
END:VEVENT
END:VCALENDAR