BEGIN:VCALENDAR
VERSION:2.0
PRODID:-//USA Race Walking - ECPv6.15.20//NONSGML v1.0//EN
CALSCALE:GREGORIAN
METHOD:PUBLISH
X-ORIGINAL-URL:https://usarw.racewalk.com
X-WR-CALDESC:Events for USA Race Walking
REFRESH-INTERVAL;VALUE=DURATION:PT1H
X-Robots-Tag:noindex
X-PUBLISHED-TTL:PT1H
BEGIN:VTIMEZONE
TZID:UTC
BEGIN:STANDARD
TZOFFSETFROM:+0000
TZOFFSETTO:+0000
TZNAME:UTC
DTSTART:20240101T000000
END:STANDARD
END:VTIMEZONE
BEGIN:VEVENT
DTSTART;VALUE=DATE:20250913
DTEND;VALUE=DATE:20250914
DTSTAMP:20260424T051116
CREATED:20250114T024200Z
LAST-MODIFIED:20250114T024439Z
UID:377-1757721600-1757807999@usarw.racewalk.com
SUMMARY:2025 World Athletics Championships 35 km
DESCRIPTION:35 km World Championship
URL:https://usarw.racewalk.com/event/2025-world-athletics-championships-35-km/
LOCATION:Japan National Stadium\, 10-1 Kasumigaokamachi\, Shinjuku City\, Tokyo\, 160-0013
CATEGORIES:WA Calendar Event,World Championship
END:VEVENT
BEGIN:VEVENT
DTSTART;VALUE=DATE:20250920
DTEND;VALUE=DATE:20250921
DTSTAMP:20260424T051116
CREATED:20250114T024339Z
LAST-MODIFIED:20250114T024339Z
UID:380-1758326400-1758412799@usarw.racewalk.com
SUMMARY:2025 World Athletics Championship 20 km
DESCRIPTION:20 km World Championship
URL:https://usarw.racewalk.com/event/2025-world-athletics-championship-20-km/
LOCATION:Japan National Stadium\, 10-1 Kasumigaokamachi\, Shinjuku City\, Tokyo\, 160-0013
CATEGORIES:WA Calendar Event,World Championship
END:VEVENT
END:VCALENDAR