BEGIN:VCALENDAR
VERSION:2.0
PRODID:-//USA Race Walking - ECPv6.15.20//NONSGML v1.0//EN
CALSCALE:GREGORIAN
METHOD:PUBLISH
X-WR-CALNAME:USA Race Walking
X-ORIGINAL-URL:https://usarw.racewalk.com
X-WR-CALDESC:Events for USA Race Walking
REFRESH-INTERVAL;VALUE=DURATION:PT1H
X-Robots-Tag:noindex
X-PUBLISHED-TTL:PT1H
BEGIN:VTIMEZONE
TZID:UTC
BEGIN:STANDARD
TZOFFSETFROM:+0000
TZOFFSETTO:+0000
TZNAME:UTC
DTSTART:20240101T000000
END:STANDARD
END:VTIMEZONE
BEGIN:VEVENT
DTSTART;VALUE=DATE:20251025
DTEND;VALUE=DATE:20251026
DTSTAMP:20260425T130111
CREATED:20250830T235630Z
LAST-MODIFIED:20250830T235630Z
UID:956-1761350400-1761436799@usarw.racewalk.com
SUMMARY:2025 Lusatian Race Walk
DESCRIPTION:Distances from 1km through the Marathon
URL:https://usarw.racewalk.com/event/2025-lusatian-race-walk/
LOCATION:Weinaupark-Stadion\, Tribünenallee\, Zittau\, 02763\, Germany
CATEGORIES:WA Calendar Event
END:VEVENT
BEGIN:VEVENT
DTSTART;VALUE=DATE:20251101
DTEND;VALUE=DATE:20251102
DTSTAMP:20260425T130111
CREATED:20250831T000300Z
LAST-MODIFIED:20250831T000300Z
UID:959-1761955200-1762041599@usarw.racewalk.com
SUMMARY:2025 Prague 1 Hour
DESCRIPTION:1 Hour track race
URL:https://usarw.racewalk.com/event/2025-prague-1-hour/
LOCATION:SC Radotín Prague\, Ke Zděř 1721/21\, Prague\, 5 Radotín\, Czech Republic
CATEGORIES:WA Calendar Event
END:VEVENT
BEGIN:VEVENT
DTSTART;VALUE=DATE:20251214
DTEND;VALUE=DATE:20251215
DTSTAMP:20260425T130111
CREATED:20250830T152210Z
LAST-MODIFIED:20250830T152210Z
UID:949-1765670400-1765756799@usarw.racewalk.com
SUMMARY:2025 World Race Walking Tour - Dublin
DESCRIPTION:Distances from 1km through the Marathon
URL:https://usarw.racewalk.com/event/2025-world-race-walking-tour-dublin/
LOCATION:Saint Anne’s Park\, Clontarf East\, Dublin\, 9RCC+P7\, Ireland
CATEGORIES:Invitational Meet,WA Calendar Event
END:VEVENT
BEGIN:VEVENT
DTSTART;VALUE=DATE:20260111
DTEND;VALUE=DATE:20260112
DTSTAMP:20260425T130111
CREATED:20250829T005009Z
LAST-MODIFIED:20251224T193114Z
UID:919-1768089600-1768175999@usarw.racewalk.com
SUMMARY:2026 USATF Marathon Race Walk Championship
DESCRIPTION:When: Sunday\, January 11\, 2026 – Tentative Start Time: 7:30 a.m.; Expected Finish Time Marathon Winner: 10:35 a.m. (men) and 11:07 a.m. (women). Expected Finish Time of International Half Marathon Invitational: 8:57 a.m. (men)\, 9:05 a.m. (women) \nWhere: Santee\, CA – A World Athletics certified pre-verified 1.0 km course on Riverview Parkway and Town Center Parkway adjacent to the Trolley Square Mall at Santee Town Center\, with the start / finish on Town Center Parkway behind the Mall. \nTeam USA Selection & Qualifying Protocols: Following USATF team selection and qualifying protocols\, the USATF Marathon Race Walk Championships will serve as the selection event for Team USA for the 2026 World Team Race Walking Championships in Brasilia\, Brazil on April 12. Several of the favorites among the athletes expected to compete have local roots. \nWorld Athletics World Race Walking Tour Silver Label Event: This year’s Championships have once again been accepted as a World Athletics World Race Walking Tour Silver Label Event for the new Marathon and Half Marathon distances\, as well as the 10km and 5km distances. It is expected that several top male and female walkers from around the NACAC & South American areas will compete in an attempt to qualify for the World Team Race Walking Championships in Brazil and other international championships. Athletes may earn World Ranking Points in the Marathon\, Half Marathon\, 10km\, and 5km events. \nAdditional Events:  Open Marathon\, Half Marathon\, 10km\, and 5km race walks for U.S. and international men\, women and masters\, as well as youth 5km and 3km races. \nEntry Information – USATF Marathon Race Walk Championships & USATF Masters Half Marathon Race Walk Championships :  The USATF website for their open Marathon and Masters Half Marathon Race Walk Championships is: https://www.usatf.org/events/2026/2026-usatf-national-marathon-race-walk-championshi  Entries for the USATF Marathon and Masters Half Marathon Race Walk Championships will be due by Monday\, January 5\, 2026\, 11:59 p.m. Pacific Time.  The on-time entry fee will be $50 per individual. After this time\, entries will be accepted only as late entries\, up through Thursday\, January 8\, 11:59 p.m. Pacific Time.  The late entry fee will be $100. Athletes wanting to enter the USATF Men’s and Women’s Marathon and Masters Men’s and Women’s Half Marathon Race Walk National Championships must do so online using the USATF online registration link: https://usatf.sport80.com/public/wizard/e/160978/home \n– Entry and Late Entry appeals for the USATF Marathon Championships should be sent to Allen James\, USATF Race Walk Chairperson at RaceWalkChair@usatf.org. \n– Entry and Late Entry appeals for the USATF Masters Half Marathon Championships should be sent to Dan Pierce\, USATF Masters Race Walk Chairperson at DPTrack@gmail.com. \nEntry Information – Open\, International\, Masters\, and Youth Divisions:  Contact Jennifer Nanista Stephens at 619-990-4892 (cell) or nanista.jennifer@gmail.com. The on-time entry fee for all individual races except the Youth 3km and 5km races is $50. The two youth races are free. The late entry fee\, including on-site race day is $100\, except the Youth races\, which will continue to be free. On-time entries are due no later than Wednesday\, January 7. Entrants in all non-USATF Marathon and USATF Masters Half Marathon Race Walk Championship events\, including all international entrants\, will enter online using this ENTRY FORM. \nQualifying Standards:  There are no qualifying standards for entry into any of the contested events.    \nTechnical Meeting & Packet Pick-Up: A Technical Meeting will be conducted virtually for all athletes and their support personnel during race week at a time still to be determined. All entered athletes will be notified. Athletes may pick up their competition bibs and timing tag on Saturday\, January 10 at a location to be determined or at the timing tent near the start line beginning at 6:00 a.m. race morning.  \nPrize Money: USATF Marathon Race Walk Championships: The prize structure at the USATF Marathon Race Walk Championships will be: M&W: 1st) $8\,000\, 2nd) $6\,000\, 3rd) $4\,000\, 4th) $3\,000\, 5th) $2\,000\, 6th) $1\,000\, 7th) $1\,000.  These funds are provided by USATF. Please note that in order to be eligible for the USATF National Championship prize money\, an athlete must be properly entered in the manner prescribed on the USATF website. Note: There is no unique\, dedicated prize money for the USATF Masters Half Marathon Championships. Performances there are eligible for World Athletics Race Walking Tour Silver Label Prize Money. \nWorld Athletics Race Walking Tour Silver Label Prize Money: International prize money for both men and women will be awarded based upon the World Athletics World Ranking performance points achieved for their results in the Marathon\, Half Marathon\, 10km\, and 5km races for men and women. This prize money will be awarded based upon the combined results of all the races: M&W – 1st) $2\,000\, 2nd) $1\,250\, 3rd) $1\,000\, 4th) $500\, 5th) $250.  To be eligible for the prize money the performances must be worth a minimum of 850 World Ranking performance points to qualify for the prize purse. The times equal to 850 World Ranking performance points at each eligible competitive distance are: Marathon – 3:52:37 (m)\, 4:15:47 (w); Half Marathon – 1:43:32 (m)\, 1:54:22 (w); 10km – 46:55 (m)\, 52:09 (w); 5km – 22:30 (m)\, 25:21 (w). Please note: USATF Marathon competitors cannot double-dip and earn prize money in both the USATF Marathon Race Walk Championships and the international World Athletics Race Walking Tour Silver Label competition no matter what their place and performance. \nInteresting Facts: 2026 is the first year that the Marathon is a World Athletics and USATF championship distance and based upon performances at the previous championship distances of 50km and 35km\, the male winner of the 26.2 mile / 42.195km marathon distance will finish in approximately three hours and five minutes (3:05:00)\, walking about seven minutes and four seconds (7:04) per mile\, and the female winner will finish in approximately three hours and thirty-seven minutes (3:37:00)\, walking about eight minutes and fifteen seconds (8:15) per mile. The Half Marathon – also a new championship distance this year – is 13.1 miles / 21.0975km\, and the winners will finish in about one hour and twenty-seven minutes (1:27:00) (men) and one hour and thirty-five minutes (1:35:00) for the women walking about six minutes and thirty-eight seconds (6:38) per mile (men) and seven minutes and fifteen seconds (7:15) for women. \nRace Directors: Tracy Sundlun\, Everything Running Foundation for the Future\, 619-726-1952 (cell)\, TracySundlun@gmail.com; Jennifer Nanista Stephens\, 619-990-4892 (cell)\, nanista.jennifer@gmail.com. \nMedia Contacts: Dan Cruz\, 619-925-7671 (cell)\, DanCruz8@me.com and Jay Holder\, 315-529-4861 (cell)\, jay.holder@usatf.org. \nSponsoring / Host Organizations:  City of Santee\, CA\, USA Track & Field – San Diego-Imperial Association. \nEvent Headquarters & Official Hotel: \nRodeway Inn\n10135 Mission Gorge Rd\, Santee\, CA 92071\n(619) 258-2020 \nRodeway Inn is across the street from the racecourse.  Rooms are $117.12 for a non-smoking double-double Thursday through Sunday; $111.62 for a non-smoking king bed Thursday through Sunday; and $106.12 for a non-smoking single queen bed Thursday through Sunday. All prices include tax! To secure event rates\, please call the main number. Event code is: Race Walking.  The current room block is 15 rooms. Housing block and pricing will be held until January 1\, 2026 at which time the block will be released and rooms will be available on a space-available basis only. Facilities: Pool (unheated)\, free internet and coffee (6:00am – 9:00am). \nAdditional Official Hotel: \nBest Western Santee Lodge\n10726 Woodside Ave.\, Santee\, CA 92071\n(619) 449-2626 \nBest Western is .8 miles from the racecourse. Rooms\, both singles or doubles\, are $152.74 per night\, taxes included. Service Animals with notice upon registration are free. Other pets are $30 per night. All rooms have two queen beds. To secure the event rates\, please call the main number and the Event code is Race Walking 2026. Housing pricing will be held until January 4\, at which time the block and group pricing will be released and rooms will be available on a space-available basis at rack rates only. Facilities: Pool (unheated)\, free internet\, in-room microwave and refrigerator\, and continental breakfast (6:00am – 9:00am). \nAdditional Hotel Option: \nCarlton Oaks Golf Club\n9200 Inwood Drive\, Santee\, CA 92071\n(619) 448-4242 \nCarlton Oaks is 2.0 miles from the racecourse. Rooms\, both singles or doubles\, are $229.90 per night\, taxes and resort fees included for Friday\, Saturday\, and Sunday. Call to book rooms or book online at https://www.choicehotels.com/reservations. There is no room block. Rooms are available on a space-available basis only.  Facilities:  Pool (unheated) and Jacuzzi\, but no gym facilities; Free Internet; Bar & Grill open 10:00am – 7:00pm. \nEvent Features: Spectator Guides\, cheerleaders on course\, music on the course provided by a DJ\, and on-site VIP Hospitality.
URL:https://usarw.racewalk.com/event/2026-usatf-marathon-race-walk-championship/
LOCATION:Trolley Square Mall\, 9888 Mission Gorge Rd\, Santee\, CA\, 92071\, United States
CATEGORIES:Invitational Meet,National Championship,Team Selection,WA Calendar Event
END:VEVENT
BEGIN:VEVENT
DTSTART;VALUE=DATE:20260117
DTEND;VALUE=DATE:20260118
DTSTAMP:20260425T130111
CREATED:20250708T204412Z
LAST-MODIFIED:20250708T204412Z
UID:828-1768608000-1768694399@usarw.racewalk.com
SUMMARY:2026 Mondo College Invitational
DESCRIPTION:3000m
URL:https://usarw.racewalk.com/event/2026-mondo-college-invitational/
LOCATION:JDL Fast Track\, 2505 Empire Drive\, Winston-Salem\, NC\, 27103\, United States
CATEGORIES:Invitational Meet,WA Calendar Event
END:VEVENT
BEGIN:VEVENT
DTSTART;VALUE=DATE:20260201
DTEND;VALUE=DATE:20260202
DTSTAMP:20260425T130111
CREATED:20250510T211236Z
LAST-MODIFIED:20251223T160252Z
UID:697-1769904000-1769990399@usarw.racewalk.com
SUMMARY:2026 Millrose Games
DESCRIPTION:USATF 1 Mile Championship \nREGISTRATION LINK:  https://usatf.sport80.com/public/wizard/e/161581 \nRegistration Open  –  Tuesday\, December 23\, 2025 \nRegistration Closes – Thursday January 15 at 5 pm EST \nDeclaration Open Thursday January 15 and closes Friday January 16 at 5 pm EST \nENTRY STANDARDS: \nMEN:\n6:40       1\,500m\n7:10       Mile\n13:40    3\,000m\n23:00    5\,000m or 5 km \nWOMEN\n7:25       1\,500m\n7:55       Mile\n15:20    3\,000m\n26:30    5\,000m or 5 km \nFields limited to 15 entrants each.
URL:https://usarw.racewalk.com/event/2026-millrose-games/
LOCATION:The Armory\, 216 Fort Washington Ave\, New York\, NY\, 10032\, United States
CATEGORIES:Invitational Meet,National Championship,WA Calendar Event
END:VEVENT
BEGIN:VEVENT
DTSTART;VALUE=DATE:20260201
DTEND;VALUE=DATE:20260202
DTSTAMP:20260425T130111
CREATED:20250708T204529Z
LAST-MODIFIED:20260122T005119Z
UID:830-1769904000-1769990399@usarw.racewalk.com
SUMMARY:2026 Asics Superblast Invitational
DESCRIPTION:3000m (North Carolina Championship) \nMeet rescheduled to 2/1 because of winter weather.
URL:https://usarw.racewalk.com/event/2026-asics-superblast-invitational/
LOCATION:JDL Fast Track\, 2505 Empire Drive\, Winston-Salem\, NC\, 27103\, United States
CATEGORIES:Association Championship,Invitational Meet,WA Calendar Event
END:VEVENT
BEGIN:VEVENT
DTSTART;VALUE=DATE:20260219
DTEND;VALUE=DATE:20260221
DTSTAMP:20260425T130111
CREATED:20250708T204744Z
LAST-MODIFIED:20250708T204744Z
UID:832-1771459200-1771631999@usarw.racewalk.com
SUMMARY:2026 Appalachian Athletic Conference Championship
DESCRIPTION:3000m
URL:https://usarw.racewalk.com/event/2026-appalachian-athletic-conference-championship/
LOCATION:JDL Fast Track\, 2505 Empire Drive\, Winston-Salem\, NC\, 27103\, United States
CATEGORIES:Conference Championship,WA Calendar Event
END:VEVENT
BEGIN:VEVENT
DTSTART;VALUE=DATE:20260228
DTEND;VALUE=DATE:20260301
DTSTAMP:20260425T130111
CREATED:20250510T211503Z
LAST-MODIFIED:20260228T155941Z
UID:699-1772236800-1772323199@usarw.racewalk.com
SUMMARY:2026 USATF Indoor Championship
DESCRIPTION:
URL:https://usarw.racewalk.com/event/2026-usatf-indoor-championship/
LOCATION:Ocean Breeze\, 625 Father Capodanno Blvd\, Staten Island\, NY\, 10305\, United States
CATEGORIES:National Championship,WA Calendar Event
END:VEVENT
BEGIN:VEVENT
DTSTART;VALUE=DATE:20260305
DTEND;VALUE=DATE:20260308
DTSTAMP:20260425T130111
CREATED:20250829T012148Z
LAST-MODIFIED:20250829T012148Z
UID:936-1772668800-1772927999@usarw.racewalk.com
SUMMARY:2026 NAIA Indoor Championship
DESCRIPTION:3000m
URL:https://usarw.racewalk.com/event/2026-naia-indoor-championship/
LOCATION:Alachua County Sports & Events Center\, 4870 Celebration Pointe Ave\, Gainesville\, FL\, 32608\, United States
CATEGORIES:National Championship,WA Calendar Event
END:VEVENT
BEGIN:VEVENT
DTSTART;VALUE=DATE:20260308
DTEND;VALUE=DATE:20260309
DTSTAMP:20260425T130111
CREATED:20250829T005231Z
LAST-MODIFIED:20260205T040854Z
UID:921-1772928000-1773014399@usarw.racewalk.com
SUMMARY:2026 USATF Race Walking World Team Trials and Invitational - Half Marathon and U20 10km
DESCRIPTION:Open Half Marathon & U20 10 km Team Selection event \nInternational entries will be accepted by age divisions in the above race distances as well. \nSoutheast Region & Florida Association 5 km event will be concurrent. \nEvent Details will be consolidated on this page – https://usarw.racewalk.com/2026-usa-team-trials-invitational/
URL:https://usarw.racewalk.com/event/usatf-race-walking-world-team-trials-and-invitational-half-marathon-and-u20-10km/
LOCATION:Alachua County Sports & Events Center\, 4870 Celebration Pointe Ave\, Gainesville\, FL\, 32608\, United States
CATEGORIES:Association Championship,Invitational Meet,Regional Championship,Team Selection,WA Calendar Event
END:VEVENT
BEGIN:VEVENT
DTSTART;VALUE=DATE:20260320
DTEND;VALUE=DATE:20260321
DTSTAMP:20260425T130111
CREATED:20250917T222153Z
LAST-MODIFIED:20251227T023115Z
UID:1036-1773964800-1774051199@usarw.racewalk.com
SUMMARY:2026 Alan Connie Shamrock Invitational
DESCRIPTION:5000m
URL:https://usarw.racewalk.com/event/2026-alan-connie-shamrock-invitational/
LOCATION:Doug Shaw Memorial Stadium\, 705 33rd Ave N\, Myrtle Beach\, SC\, 29577\, United States
CATEGORIES:Invitational Meet,WA Calendar Event
END:VEVENT
BEGIN:VEVENT
DTSTART;VALUE=DATE:20260412
DTEND;VALUE=DATE:20260413
DTSTAMP:20260425T130111
CREATED:20250325T165828Z
LAST-MODIFIED:20251203T194453Z
UID:573-1775952000-1776038399@usarw.racewalk.com
SUMMARY:2026 WA Race Walk Team Championships
DESCRIPTION:Timetable:\n7:00 am M&W Marathon\n7:30 am M U20 10 km\n8:30 am W U20 10 km\n11:05 am M Half Marathon\n12:50 pm W Half Marathon \nBrasilia\, Brazil
URL:https://usarw.racewalk.com/event/2026-wa-race-walk-team-championships/
CATEGORIES:WA Calendar Event,World Championship
END:VEVENT
BEGIN:VEVENT
DTSTART;VALUE=DATE:20260412
DTEND;VALUE=DATE:20260413
DTSTAMP:20260425T130111
CREATED:20251206T151254Z
LAST-MODIFIED:20260220T173846Z
UID:1209-1775952000-1776038399@usarw.racewalk.com
SUMMARY:2026 Jack Mortland Ohio 20000m Championship
DESCRIPTION:Registration https://raceroster.com/events/2026/115902/usatf-ohio-assoc-championship-jack-mortland-race-walks
URL:https://usarw.racewalk.com/event/2026-jack-mortland-ohio-20000m-championship/
LOCATION:Athletes in Action Sports Complex\, 1197 S Detroit St\, Xenia\, OH\, 45385\, United States
CATEGORIES:Association Championship,Invitational Meet,WA Calendar Event
END:VEVENT
BEGIN:VEVENT
DTSTART;VALUE=DATE:20260425
DTEND;VALUE=DATE:20260426
DTSTAMP:20260425T130111
CREATED:20250511T230830Z
LAST-MODIFIED:20251227T023315Z
UID:702-1777075200-1777161599@usarw.racewalk.com
SUMMARY:2026 Penn Relays
DESCRIPTION:5000m
URL:https://usarw.racewalk.com/event/2026-penn-relays/
LOCATION:Franklin Field\, 235 S 33rd St\, Philadelphia\, PA\, 19104\, United States
CATEGORIES:Invitational Meet,WA Calendar Event
END:VEVENT
BEGIN:VEVENT
DTSTART;VALUE=DATE:20260508
DTEND;VALUE=DATE:20260509
DTSTAMP:20260425T130111
CREATED:20251205T185000Z
LAST-MODIFIED:20260315T181207Z
UID:1206-1778198400-1778284799@usarw.racewalk.com
SUMMARY:2026 Podebrady Gold Meeting
DESCRIPTION:Half Marathon & U20 10 km \nCompetition opportunity: We have for funding for three athletes to the racewalk tour event in Podebrady on May 8th. We will be funding up to 3 male and 3 female athletes through reimbursements up to $2000. Plus partial funding available for other athletes who may want to travel to the race. \nThe selection criteria for the top three spots is:\nTop 3 WA performance scores between 1/1/26 and 3/8/26\nAll scoring distances count.\nWA Performance Score Minimum:\nOpen Athletes: 950\nU20 Athletes: 850 \nPartial funding can be considered for any athlete who wishes to race in Podebrady and achieves these minimum scores through 4/25. \nNote: This is a funding only opportunity. Two support staff will be on the ground to help with aid and other logistics regarding the race\, but athletes must arrange their own travel. \nYou are encouraged to start making your flight arrangements to Podebrady via Prague airport (PRG). The LOC will provide shuttles from the airport to meet hotels for a cost at least from May 6 through May 10th.  Podebrady is also accessible by train.\n\n\n\nThe US Team Staff will include:\nJanelle Branch – Manager/Head Coach\nDylan Suwara – Assistant Coach\n\nFriday May 8th International Race Walks:\n\nU20 Women – 14:00\nU20 Men – 15:00\nHalf Marathon Women – 16:00\nHalf Marathon Men – 18:00\n\nFor more information please refer to the website https://www.podebrady-walking.cz/en/ \nThe self funded athletes should be entered through online entries and arrange accommodation themselves. \nTeams Hotels \nHotel Libenský****\nNám. T.G.M. 437/II CZ – 290 33 Poděbrady I\nTel.: +420 325 606 333\nwww.lazne-podebrady.cz/hotel-libensky \nHotel Zámeček****\nHusova 232/II\, 290 33 Poděbrady\nTel.: +420 325 503 300\nwww.lazne-podebrady.cz/hotel-zamecek \nHotel Libuše***\nNa Valech 254/II CZ – 290 33 Poděbrady I\nTel.: +420 325 606 777\nwww.lazne-podebrady.cz/hotel-libuse \nHotel Zimní Lázně***\nHakenova 464/II CZ – 290 33 Poděbrady I\nTel.: +420 325 606 888\nwww.lazne-podebrady.cz/hotel-zimni-lazne \nHotel Bellevue Tlapák****\nNám. T.G.M. 654/II\, 290 33 Poděbrady\nTel.: +420 325 606 500\nwww.lazne-podebrady.cz/hotel-bellevue-tlapak \nHotel Chariclea****\nLibušina\, 290 01 Poděbrady\nTel.: +420 325 606 999\nwww.lazne-podebrady.cz/hotel-charicle \n 
URL:https://usarw.racewalk.com/event/2026-podebrady-gold-meeting/
CATEGORIES:WA Calendar Event
END:VEVENT
BEGIN:VEVENT
DTSTART;VALUE=DATE:20260520
DTEND;VALUE=DATE:20260523
DTSTAMP:20260425T130111
CREATED:20250829T011832Z
LAST-MODIFIED:20250829T011832Z
UID:931-1779235200-1779494399@usarw.racewalk.com
SUMMARY:2026 NAIA Outdoor Championship
DESCRIPTION:5000m
URL:https://usarw.racewalk.com/event/2026-naia-outdoor-championship/
LOCATION:Karl Straus Track\, 600 Wellness Way\, Asheville\, NC\, 28804\, United States
CATEGORIES:National Championship,WA Calendar Event
END:VEVENT
BEGIN:VEVENT
DTSTART;VALUE=DATE:20260618
DTEND;VALUE=DATE:20260622
DTSTAMP:20260425T130111
CREATED:20250829T005410Z
LAST-MODIFIED:20250829T012733Z
UID:923-1781740800-1782086399@usarw.racewalk.com
SUMMARY:2026 USATF U20 Championship
DESCRIPTION:Details TBA
URL:https://usarw.racewalk.com/event/2026-usatf-u20-championship/
LOCATION:Hayward Field\, 1530 Agate St\, Eugene\, OR\, 97403\, United States
CATEGORIES:National Championship,Team Selection,WA Calendar Event
END:VEVENT
BEGIN:VEVENT
DTSTART;VALUE=DATE:20260626
DTEND;VALUE=DATE:20260629
DTSTAMP:20260425T130111
CREATED:20250908T035515Z
LAST-MODIFIED:20250908T035515Z
UID:979-1782432000-1782691199@usarw.racewalk.com
SUMMARY:2026 Pan American Senior Championship
DESCRIPTION:TBD
URL:https://usarw.racewalk.com/event/2026-pan-american-senior-championship/
CATEGORIES:Area Championship,WA Calendar Event
END:VEVENT
BEGIN:VEVENT
DTSTART;VALUE=DATE:20260723
DTEND;VALUE=DATE:20260727
DTSTAMP:20260425T130111
CREATED:20250829T005515Z
LAST-MODIFIED:20260210T151700Z
UID:925-1784764800-1785110399@usarw.racewalk.com
SUMMARY:2026 USATF Outdoor Championship
DESCRIPTION:Details TBA
URL:https://usarw.racewalk.com/event/2026-usatf-outdoor-championship/
LOCATION:Icahn Stadium\, 20 Randall's Island\, New York City\, NY\, 10135\, United States
CATEGORIES:National Championship,Team Selection,WA Calendar Event
END:VEVENT
BEGIN:VEVENT
DTSTART;VALUE=DATE:20260808
DTEND;VALUE=DATE:20260809
DTSTAMP:20260425T130111
CREATED:20250511T231308Z
LAST-MODIFIED:20251203T194710Z
UID:707-1786147200-1786233599@usarw.racewalk.com
SUMMARY:2026 World U20 Championship
DESCRIPTION:5000m \nTimetable:\n10:25 am M 5000m\n11:00 am W 5000m
URL:https://usarw.racewalk.com/event/2026-world-u20-championship/
LOCATION:Hayward Field\, 1530 Agate St\, Eugene\, OR\, 97403\, United States
CATEGORIES:WA Calendar Event,World Championship
END:VEVENT
BEGIN:VEVENT
DTSTART;VALUE=DATE:20270124
DTEND;VALUE=DATE:20270125
DTSTAMP:20260425T130111
CREATED:20260402T001640Z
LAST-MODIFIED:20260402T001640Z
UID:1728-1800748800-1800835199@usarw.racewalk.com
SUMMARY:2027 USA Marathon Championship
DESCRIPTION:Santee International Race Walk Invitational events: \nMarathon\, Half Marathon\, 10km\, 5km \nEntry details for all distances\, domestic and international\, will be available in July.
URL:https://usarw.racewalk.com/event/2027_usa_marathon_championship/
LOCATION:Trolley Square Mall\, 9888 Mission Gorge Rd\, Santee\, CA\, 92071\, United States
CATEGORIES:Invitational Meet,National Championship,Team Selection,WA Calendar Event
END:VEVENT
BEGIN:VEVENT
DTSTART;VALUE=DATE:20270131
DTEND;VALUE=DATE:20270201
DTSTAMP:20260425T130111
CREATED:20260302T113823Z
LAST-MODIFIED:20260302T113823Z
UID:1616-1801353600-1801439999@usarw.racewalk.com
SUMMARY:2027 Millrose Games
DESCRIPTION:1 Mile
URL:https://usarw.racewalk.com/event/2027-millrose-games/
LOCATION:The Armory\, 216 Fort Washington Ave\, New York\, NY\, 10032\, United States
CATEGORIES:Invitational Meet,National Championship,WA Calendar Event
END:VEVENT
BEGIN:VEVENT
DTSTART;VALUE=DATE:20270220
DTEND;VALUE=DATE:20270222
DTSTAMP:20260425T130111
CREATED:20260302T024559Z
LAST-MODIFIED:20260302T024600Z
UID:1614-1803081600-1803254399@usarw.racewalk.com
SUMMARY:2027 USATF Indoor Championship
DESCRIPTION:5000m
URL:https://usarw.racewalk.com/event/2027-usatf-indoor-championship/
CATEGORIES:National Championship,WA Calendar Event
END:VEVENT
BEGIN:VEVENT
DTSTART;VALUE=DATE:20270417
DTEND;VALUE=DATE:20270418
DTSTAMP:20260425T130111
CREATED:20250908T035700Z
LAST-MODIFIED:20250908T035700Z
UID:981-1807920000-1808006399@usarw.racewalk.com
SUMMARY:2027 Pan American Race Walk Cup
DESCRIPTION:TBD
URL:https://usarw.racewalk.com/event/2027-pan-american-race-walk-cup/
CATEGORIES:Area Championship,WA Calendar Event
END:VEVENT
BEGIN:VEVENT
DTSTART;VALUE=DATE:20270526
DTEND;VALUE=DATE:20270529
DTSTAMP:20260425T130111
CREATED:20250829T011931Z
LAST-MODIFIED:20250829T011931Z
UID:934-1811289600-1811548799@usarw.racewalk.com
SUMMARY:2027 NAIA Outdoor Championship
DESCRIPTION:5000m
URL:https://usarw.racewalk.com/event/2027-naia-outdoor-championship/
LOCATION:Karl Straus Track\, 600 Wellness Way\, Asheville\, NC\, 28804\, United States
CATEGORIES:National Championship,WA Calendar Event
END:VEVENT
BEGIN:VEVENT
DTSTART;VALUE=DATE:20270618
DTEND;VALUE=DATE:20270621
DTSTAMP:20260425T130111
CREATED:20250908T035800Z
LAST-MODIFIED:20250908T035800Z
UID:983-1813276800-1813535999@usarw.racewalk.com
SUMMARY:2027 Pan American U20 Championship
DESCRIPTION:TBD
URL:https://usarw.racewalk.com/event/2027-pan-american-u20-championship/
CATEGORIES:Area Championship,WA Calendar Event
END:VEVENT
BEGIN:VEVENT
DTSTART;VALUE=DATE:20270702
DTEND;VALUE=DATE:20270705
DTSTAMP:20260425T130111
CREATED:20250908T035856Z
LAST-MODIFIED:20250908T035856Z
UID:985-1814486400-1814745599@usarw.racewalk.com
SUMMARY:2027 NACAC Championship
DESCRIPTION:TBD
URL:https://usarw.racewalk.com/event/2027-nacac-championship/
CATEGORIES:Area Championship,WA Calendar Event
END:VEVENT
BEGIN:VEVENT
DTSTART;VALUE=DATE:20270716
DTEND;VALUE=DATE:20270802
DTSTAMP:20260425T130111
CREATED:20250908T040008Z
LAST-MODIFIED:20250908T040008Z
UID:987-1815696000-1817164799@usarw.racewalk.com
SUMMARY:2027 Pan American Games
DESCRIPTION:Lima\, Peru
URL:https://usarw.racewalk.com/event/2027-pan-american-games/
CATEGORIES:Area Championship,WA Calendar Event
END:VEVENT
BEGIN:VEVENT
DTSTART;VALUE=DATE:20270723
DTEND;VALUE=DATE:20270727
DTSTAMP:20260425T130111
CREATED:20260210T152009Z
LAST-MODIFIED:20260210T152009Z
UID:1564-1816300800-1816646399@usarw.racewalk.com
SUMMARY:2027 USATF Outdoor Championship
DESCRIPTION:Placeholder\, dates still TBD
URL:https://usarw.racewalk.com/event/2027-usatf-outdoor-championship/
LOCATION:Hayward Field\, 1530 Agate St\, Eugene\, OR\, 97403\, United States
CATEGORIES:National Championship,Team Selection,WA Calendar Event
END:VEVENT
END:VCALENDAR