BEGIN:VCALENDAR
VERSION:2.0
PRODID:-//USA Race Walking - ECPv6.15.20//NONSGML v1.0//EN
CALSCALE:GREGORIAN
METHOD:PUBLISH
X-WR-CALNAME:USA Race Walking
X-ORIGINAL-URL:https://usarw.racewalk.com
X-WR-CALDESC:Events for USA Race Walking
REFRESH-INTERVAL;VALUE=DURATION:PT1H
X-Robots-Tag:noindex
X-PUBLISHED-TTL:PT1H
BEGIN:VTIMEZONE
TZID:UTC
BEGIN:STANDARD
TZOFFSETFROM:+0000
TZOFFSETTO:+0000
TZNAME:UTC
DTSTART:20240101T000000
END:STANDARD
END:VTIMEZONE
BEGIN:VEVENT
DTSTART;VALUE=DATE:20251229
DTEND;VALUE=DATE:20260105
DTSTAMP:20260424T002340
CREATED:20251007T175342Z
LAST-MODIFIED:20251007T175904Z
UID:1094-1766966400-1767571199@usarw.racewalk.com
SUMMARY:2025 USARW Foundation Training Camp
DESCRIPTION:Camp details can be found here: \n2025 USA RW Foundation Training Camp
URL:https://usarw.racewalk.com/event/2025-usarw-foundation-training-camp/
LOCATION:YMCA Camp Surf\, 560 Silver Strand Blvd\, Imperial Beach\, CA\, 91932\, United States
CATEGORIES:Training Camp
END:VEVENT
BEGIN:VEVENT
DTSTART;VALUE=DATE:20260103
DTEND;VALUE=DATE:20260104
DTSTAMP:20260424T002340
CREATED:20251227T021147Z
LAST-MODIFIED:20251227T021147Z
UID:1324-1767398400-1767484799@usarw.racewalk.com
SUMMARY:2026 Dorothy Dawson Invite
DESCRIPTION:Youth 1500m/3000m
URL:https://usarw.racewalk.com/event/2026-dorothy-dawson-invite/
LOCATION:Proviso West HS\, 4701 Harrison St\, Hillside\, IL\, 60162\, United States
CATEGORIES:Invitational Meet
END:VEVENT
BEGIN:VEVENT
DTSTART;VALUE=DATE:20260111
DTEND;VALUE=DATE:20260112
DTSTAMP:20260424T002340
CREATED:20250829T005009Z
LAST-MODIFIED:20251224T193114Z
UID:919-1768089600-1768175999@usarw.racewalk.com
SUMMARY:2026 USATF Marathon Race Walk Championship
DESCRIPTION:When: Sunday\, January 11\, 2026 – Tentative Start Time: 7:30 a.m.; Expected Finish Time Marathon Winner: 10:35 a.m. (men) and 11:07 a.m. (women). Expected Finish Time of International Half Marathon Invitational: 8:57 a.m. (men)\, 9:05 a.m. (women) \nWhere: Santee\, CA – A World Athletics certified pre-verified 1.0 km course on Riverview Parkway and Town Center Parkway adjacent to the Trolley Square Mall at Santee Town Center\, with the start / finish on Town Center Parkway behind the Mall. \nTeam USA Selection & Qualifying Protocols: Following USATF team selection and qualifying protocols\, the USATF Marathon Race Walk Championships will serve as the selection event for Team USA for the 2026 World Team Race Walking Championships in Brasilia\, Brazil on April 12. Several of the favorites among the athletes expected to compete have local roots. \nWorld Athletics World Race Walking Tour Silver Label Event: This year’s Championships have once again been accepted as a World Athletics World Race Walking Tour Silver Label Event for the new Marathon and Half Marathon distances\, as well as the 10km and 5km distances. It is expected that several top male and female walkers from around the NACAC & South American areas will compete in an attempt to qualify for the World Team Race Walking Championships in Brazil and other international championships. Athletes may earn World Ranking Points in the Marathon\, Half Marathon\, 10km\, and 5km events. \nAdditional Events:  Open Marathon\, Half Marathon\, 10km\, and 5km race walks for U.S. and international men\, women and masters\, as well as youth 5km and 3km races. \nEntry Information – USATF Marathon Race Walk Championships & USATF Masters Half Marathon Race Walk Championships :  The USATF website for their open Marathon and Masters Half Marathon Race Walk Championships is: https://www.usatf.org/events/2026/2026-usatf-national-marathon-race-walk-championshi  Entries for the USATF Marathon and Masters Half Marathon Race Walk Championships will be due by Monday\, January 5\, 2026\, 11:59 p.m. Pacific Time.  The on-time entry fee will be $50 per individual. After this time\, entries will be accepted only as late entries\, up through Thursday\, January 8\, 11:59 p.m. Pacific Time.  The late entry fee will be $100. Athletes wanting to enter the USATF Men’s and Women’s Marathon and Masters Men’s and Women’s Half Marathon Race Walk National Championships must do so online using the USATF online registration link: https://usatf.sport80.com/public/wizard/e/160978/home \n– Entry and Late Entry appeals for the USATF Marathon Championships should be sent to Allen James\, USATF Race Walk Chairperson at RaceWalkChair@usatf.org. \n– Entry and Late Entry appeals for the USATF Masters Half Marathon Championships should be sent to Dan Pierce\, USATF Masters Race Walk Chairperson at DPTrack@gmail.com. \nEntry Information – Open\, International\, Masters\, and Youth Divisions:  Contact Jennifer Nanista Stephens at 619-990-4892 (cell) or nanista.jennifer@gmail.com. The on-time entry fee for all individual races except the Youth 3km and 5km races is $50. The two youth races are free. The late entry fee\, including on-site race day is $100\, except the Youth races\, which will continue to be free. On-time entries are due no later than Wednesday\, January 7. Entrants in all non-USATF Marathon and USATF Masters Half Marathon Race Walk Championship events\, including all international entrants\, will enter online using this ENTRY FORM. \nQualifying Standards:  There are no qualifying standards for entry into any of the contested events.    \nTechnical Meeting & Packet Pick-Up: A Technical Meeting will be conducted virtually for all athletes and their support personnel during race week at a time still to be determined. All entered athletes will be notified. Athletes may pick up their competition bibs and timing tag on Saturday\, January 10 at a location to be determined or at the timing tent near the start line beginning at 6:00 a.m. race morning.  \nPrize Money: USATF Marathon Race Walk Championships: The prize structure at the USATF Marathon Race Walk Championships will be: M&W: 1st) $8\,000\, 2nd) $6\,000\, 3rd) $4\,000\, 4th) $3\,000\, 5th) $2\,000\, 6th) $1\,000\, 7th) $1\,000.  These funds are provided by USATF. Please note that in order to be eligible for the USATF National Championship prize money\, an athlete must be properly entered in the manner prescribed on the USATF website. Note: There is no unique\, dedicated prize money for the USATF Masters Half Marathon Championships. Performances there are eligible for World Athletics Race Walking Tour Silver Label Prize Money. \nWorld Athletics Race Walking Tour Silver Label Prize Money: International prize money for both men and women will be awarded based upon the World Athletics World Ranking performance points achieved for their results in the Marathon\, Half Marathon\, 10km\, and 5km races for men and women. This prize money will be awarded based upon the combined results of all the races: M&W – 1st) $2\,000\, 2nd) $1\,250\, 3rd) $1\,000\, 4th) $500\, 5th) $250.  To be eligible for the prize money the performances must be worth a minimum of 850 World Ranking performance points to qualify for the prize purse. The times equal to 850 World Ranking performance points at each eligible competitive distance are: Marathon – 3:52:37 (m)\, 4:15:47 (w); Half Marathon – 1:43:32 (m)\, 1:54:22 (w); 10km – 46:55 (m)\, 52:09 (w); 5km – 22:30 (m)\, 25:21 (w). Please note: USATF Marathon competitors cannot double-dip and earn prize money in both the USATF Marathon Race Walk Championships and the international World Athletics Race Walking Tour Silver Label competition no matter what their place and performance. \nInteresting Facts: 2026 is the first year that the Marathon is a World Athletics and USATF championship distance and based upon performances at the previous championship distances of 50km and 35km\, the male winner of the 26.2 mile / 42.195km marathon distance will finish in approximately three hours and five minutes (3:05:00)\, walking about seven minutes and four seconds (7:04) per mile\, and the female winner will finish in approximately three hours and thirty-seven minutes (3:37:00)\, walking about eight minutes and fifteen seconds (8:15) per mile. The Half Marathon – also a new championship distance this year – is 13.1 miles / 21.0975km\, and the winners will finish in about one hour and twenty-seven minutes (1:27:00) (men) and one hour and thirty-five minutes (1:35:00) for the women walking about six minutes and thirty-eight seconds (6:38) per mile (men) and seven minutes and fifteen seconds (7:15) for women. \nRace Directors: Tracy Sundlun\, Everything Running Foundation for the Future\, 619-726-1952 (cell)\, TracySundlun@gmail.com; Jennifer Nanista Stephens\, 619-990-4892 (cell)\, nanista.jennifer@gmail.com. \nMedia Contacts: Dan Cruz\, 619-925-7671 (cell)\, DanCruz8@me.com and Jay Holder\, 315-529-4861 (cell)\, jay.holder@usatf.org. \nSponsoring / Host Organizations:  City of Santee\, CA\, USA Track & Field – San Diego-Imperial Association. \nEvent Headquarters & Official Hotel: \nRodeway Inn\n10135 Mission Gorge Rd\, Santee\, CA 92071\n(619) 258-2020 \nRodeway Inn is across the street from the racecourse.  Rooms are $117.12 for a non-smoking double-double Thursday through Sunday; $111.62 for a non-smoking king bed Thursday through Sunday; and $106.12 for a non-smoking single queen bed Thursday through Sunday. All prices include tax! To secure event rates\, please call the main number. Event code is: Race Walking.  The current room block is 15 rooms. Housing block and pricing will be held until January 1\, 2026 at which time the block will be released and rooms will be available on a space-available basis only. Facilities: Pool (unheated)\, free internet and coffee (6:00am – 9:00am). \nAdditional Official Hotel: \nBest Western Santee Lodge\n10726 Woodside Ave.\, Santee\, CA 92071\n(619) 449-2626 \nBest Western is .8 miles from the racecourse. Rooms\, both singles or doubles\, are $152.74 per night\, taxes included. Service Animals with notice upon registration are free. Other pets are $30 per night. All rooms have two queen beds. To secure the event rates\, please call the main number and the Event code is Race Walking 2026. Housing pricing will be held until January 4\, at which time the block and group pricing will be released and rooms will be available on a space-available basis at rack rates only. Facilities: Pool (unheated)\, free internet\, in-room microwave and refrigerator\, and continental breakfast (6:00am – 9:00am). \nAdditional Hotel Option: \nCarlton Oaks Golf Club\n9200 Inwood Drive\, Santee\, CA 92071\n(619) 448-4242 \nCarlton Oaks is 2.0 miles from the racecourse. Rooms\, both singles or doubles\, are $229.90 per night\, taxes and resort fees included for Friday\, Saturday\, and Sunday. Call to book rooms or book online at https://www.choicehotels.com/reservations. There is no room block. Rooms are available on a space-available basis only.  Facilities:  Pool (unheated) and Jacuzzi\, but no gym facilities; Free Internet; Bar & Grill open 10:00am – 7:00pm. \nEvent Features: Spectator Guides\, cheerleaders on course\, music on the course provided by a DJ\, and on-site VIP Hospitality.
URL:https://usarw.racewalk.com/event/2026-usatf-marathon-race-walk-championship/
LOCATION:Trolley Square Mall\, 9888 Mission Gorge Rd\, Santee\, CA\, 92071\, United States
CATEGORIES:Invitational Meet,National Championship,Team Selection,WA Calendar Event
END:VEVENT
BEGIN:VEVENT
DTSTART;VALUE=DATE:20260111
DTEND;VALUE=DATE:20260112
DTSTAMP:20260424T002340
CREATED:20251209T014633Z
LAST-MODIFIED:20251209T014633Z
UID:1243-1768089600-1768175999@usarw.racewalk.com
SUMMARY:2026 PVTC January Indoor Meet 1
DESCRIPTION:800m\, 1500m\, one mile\, 3000m – all start simultaneously
URL:https://usarw.racewalk.com/event/2026-pvtc-january-indoor-meet-1/
LOCATION:Thomas Jefferson Community Center\, 3501 2nd Street South\, Arlington\, Virginia\, 22204
CATEGORIES:Invitational Meet
END:VEVENT
BEGIN:VEVENT
DTSTART;VALUE=DATE:20260117
DTEND;VALUE=DATE:20260118
DTSTAMP:20260424T002340
CREATED:20250708T204412Z
LAST-MODIFIED:20250708T204412Z
UID:828-1768608000-1768694399@usarw.racewalk.com
SUMMARY:2026 Mondo College Invitational
DESCRIPTION:3000m
URL:https://usarw.racewalk.com/event/2026-mondo-college-invitational/
LOCATION:JDL Fast Track\, 2505 Empire Drive\, Winston-Salem\, NC\, 27103\, United States
CATEGORIES:Invitational Meet,WA Calendar Event
END:VEVENT
BEGIN:VEVENT
DTSTART;VALUE=DATE:20260118
DTEND;VALUE=DATE:20260119
DTSTAMP:20260424T002340
CREATED:20251202T012749Z
LAST-MODIFIED:20251202T012749Z
UID:1198-1768694400-1768780799@usarw.racewalk.com
SUMMARY:2026 Niagara Indoor Championship
DESCRIPTION:3000m
URL:https://usarw.racewalk.com/event/2026-niagara-indoor-championship/
LOCATION:Barton Hall\, 117 Statler Drive\, Cornell\, NY\, 14853\, United States
CATEGORIES:Association Championship
END:VEVENT
BEGIN:VEVENT
DTSTART;VALUE=DATE:20260118
DTEND;VALUE=DATE:20260119
DTSTAMP:20260424T002340
CREATED:20251224T180403Z
LAST-MODIFIED:20251224T180403Z
UID:1301-1768694400-1768780799@usarw.racewalk.com
SUMMARY:2026 USATF Masters East Region Potomac Valley Open and Masters Indoor Track and Field Championships
DESCRIPTION:3000m
URL:https://usarw.racewalk.com/event/2026-usatf-masters-east-region-potomac-valley-open-and-masters-indoor-track-and-field-championships/
LOCATION:Prince George’s Sports and Learning Center\, 8001 Sheriff Rd\, Landover\, MD\, 20785\, United States
CATEGORIES:Association Championship,Regional Championship
END:VEVENT
BEGIN:VEVENT
DTSTART;VALUE=DATE:20260118
DTEND;VALUE=DATE:20260119
DTSTAMP:20260424T002340
CREATED:20260101T030550Z
LAST-MODIFIED:20260101T030550Z
UID:1362-1768694400-1768780799@usarw.racewalk.com
SUMMARY:2026 Long Island Youth Indoor Championship
DESCRIPTION:3000m (open/masters) concurrent with 1600m (youth)
URL:https://usarw.racewalk.com/event/2026-long-island-youth-indoor-championship/
LOCATION:Saint Anthony’s HS (NY)\, 275 Wolf Hill Road\, South Huntington\, 11747
CATEGORIES:Association Championship
END:VEVENT
BEGIN:VEVENT
DTSTART;VALUE=DATE:20260118
DTEND;VALUE=DATE:20260119
DTSTAMP:20260424T002340
CREATED:20260101T200504Z
LAST-MODIFIED:20260101T200504Z
UID:1402-1768694400-1768780799@usarw.racewalk.com
SUMMARY:2026 New York Indoor Championship
DESCRIPTION:1 Mile
URL:https://usarw.racewalk.com/event/2026-new-york-indoor-championship/
LOCATION:Ocean Breeze\, 625 Father Capodanno Blvd\, Staten Island\, NY\, 10305\, United States
CATEGORIES:Association Championship
END:VEVENT
BEGIN:VEVENT
DTSTART;VALUE=DATE:20260123
DTEND;VALUE=DATE:20260124
DTSTAMP:20260424T002340
CREATED:20250917T230529Z
LAST-MODIFIED:20250917T230529Z
UID:1046-1769126400-1769212799@usarw.racewalk.com
SUMMARY:2026 Concordia Polar Dog
DESCRIPTION:3000m
URL:https://usarw.racewalk.com/event/2026-concordia-polar-dog/
LOCATION:Walz Fieldhouse\, E Hillcrest Dr\, Seward\, NE\, 68434\, United States
CATEGORIES:Invitational Meet
END:VEVENT
BEGIN:VEVENT
DTSTART;VALUE=DATE:20260125
DTEND;VALUE=DATE:20260126
DTSTAMP:20260424T002340
CREATED:20251209T014738Z
LAST-MODIFIED:20251209T014738Z
UID:1245-1769299200-1769385599@usarw.racewalk.com
SUMMARY:2026 PVTC January Indoor Meet 2
DESCRIPTION:800m\, 1500m\, one mile\, 3000m – all start simultaneously
URL:https://usarw.racewalk.com/event/2026-pvtc-january-indoor-meet-2/
LOCATION:Thomas Jefferson Community Center\, 3501 2nd Street South\, Arlington\, Virginia\, 22204
CATEGORIES:Invitational Meet
END:VEVENT
BEGIN:VEVENT
DTSTART;VALUE=DATE:20260125
DTEND;VALUE=DATE:20260126
DTSTAMP:20260424T002340
CREATED:20251224T181001Z
LAST-MODIFIED:20251224T181001Z
UID:1304-1769299200-1769385599@usarw.racewalk.com
SUMMARY:2026 USATF Masters Mid America Region Indoor Championships
DESCRIPTION:TBD
URL:https://usarw.racewalk.com/event/2026-usatf-masters-mid-america-region-indoor-championships/
LOCATION:Fuhrer Field House\, 1469-1573 E 13th St\, Crete\, NE\, 68333\, United States
CATEGORIES:Regional Championship
END:VEVENT
BEGIN:VEVENT
DTSTART;VALUE=DATE:20260125
DTEND;VALUE=DATE:20260126
DTSTAMP:20260424T002340
CREATED:20251224T181236Z
LAST-MODIFIED:20251224T181236Z
UID:1307-1769299200-1769385599@usarw.racewalk.com
SUMMARY:2026 USATF Masters Southwest Region Indoor Championships
DESCRIPTION:1 Mile
URL:https://usarw.racewalk.com/event/2026-usatf-masters-southwest-region-indoor-championships/
LOCATION:Yeoman Fieldhouse\, 3728 Francis Street\, Houston\, TX\, 77004\, United States
CATEGORIES:Regional Championship
END:VEVENT
BEGIN:VEVENT
DTSTART;VALUE=DATE:20260131
DTEND;VALUE=DATE:20260201
DTSTAMP:20260424T002340
CREATED:20250917T220300Z
LAST-MODIFIED:20251224T181536Z
UID:1027-1769817600-1769903999@usarw.racewalk.com
SUMMARY:2026 Pacific Reno Indoor Track Championships
DESCRIPTION:1500m \nAlso the USATF West and Northwest Masters Regions Indoor Track & Field Championships
URL:https://usarw.racewalk.com/event/2026-pacific-reno-indoor-track-championships/
LOCATION:Reno-Sparks Convention Center\, 4590 S Virginia St\, Reno\, NV\, 89502\, United States
CATEGORIES:Association Championship,Regional Championship
END:VEVENT
BEGIN:VEVENT
DTSTART;VALUE=DATE:20260131
DTEND;VALUE=DATE:20260201
DTSTAMP:20260424T002340
CREATED:20250917T230605Z
LAST-MODIFIED:20250917T230605Z
UID:1048-1769817600-1769903999@usarw.racewalk.com
SUMMARY:2026 Concordia Classic
DESCRIPTION:3000m
URL:https://usarw.racewalk.com/event/2026-concordia-classic/
LOCATION:Walz Fieldhouse\, E Hillcrest Dr\, Seward\, NE\, 68434\, United States
CATEGORIES:Invitational Meet
END:VEVENT
BEGIN:VEVENT
DTSTART;VALUE=DATE:20260131
DTEND;VALUE=DATE:20260202
DTSTAMP:20260424T002340
CREATED:20251224T182114Z
LAST-MODIFIED:20251224T182114Z
UID:1311-1769817600-1769990399@usarw.racewalk.com
SUMMARY:2026 USATF Masters Southeast Region Indoor Championships
DESCRIPTION:1 Mile & 3000m
URL:https://usarw.racewalk.com/event/2026-usatf-masters-southeast-region-indoor-championships/
LOCATION:Tryon International\, 25 International Blvd\, Mill Spring\, NC\, 28756\, United States
CATEGORIES:Regional Championship
END:VEVENT
BEGIN:VEVENT
DTSTART;VALUE=DATE:20260201
DTEND;VALUE=DATE:20260202
DTSTAMP:20260424T002340
CREATED:20250510T211236Z
LAST-MODIFIED:20251223T160252Z
UID:697-1769904000-1769990399@usarw.racewalk.com
SUMMARY:2026 Millrose Games
DESCRIPTION:USATF 1 Mile Championship \nREGISTRATION LINK:  https://usatf.sport80.com/public/wizard/e/161581 \nRegistration Open  –  Tuesday\, December 23\, 2025 \nRegistration Closes – Thursday January 15 at 5 pm EST \nDeclaration Open Thursday January 15 and closes Friday January 16 at 5 pm EST \nENTRY STANDARDS: \nMEN:\n6:40       1\,500m\n7:10       Mile\n13:40    3\,000m\n23:00    5\,000m or 5 km \nWOMEN\n7:25       1\,500m\n7:55       Mile\n15:20    3\,000m\n26:30    5\,000m or 5 km \nFields limited to 15 entrants each.
URL:https://usarw.racewalk.com/event/2026-millrose-games/
LOCATION:The Armory\, 216 Fort Washington Ave\, New York\, NY\, 10032\, United States
CATEGORIES:Invitational Meet,National Championship,WA Calendar Event
END:VEVENT
BEGIN:VEVENT
DTSTART;VALUE=DATE:20260201
DTEND;VALUE=DATE:20260202
DTSTAMP:20260424T002340
CREATED:20250708T204529Z
LAST-MODIFIED:20260122T005119Z
UID:830-1769904000-1769990399@usarw.racewalk.com
SUMMARY:2026 Asics Superblast Invitational
DESCRIPTION:3000m (North Carolina Championship) \nMeet rescheduled to 2/1 because of winter weather.
URL:https://usarw.racewalk.com/event/2026-asics-superblast-invitational/
LOCATION:JDL Fast Track\, 2505 Empire Drive\, Winston-Salem\, NC\, 27103\, United States
CATEGORIES:Association Championship,Invitational Meet,WA Calendar Event
END:VEVENT
BEGIN:VEVENT
DTSTART;VALUE=DATE:20260201
DTEND;VALUE=DATE:20260202
DTSTAMP:20260424T002340
CREATED:20251206T152826Z
LAST-MODIFIED:20251206T152826Z
UID:1214-1769904000-1769990399@usarw.racewalk.com
SUMMARY:2026 New England & East Region Masters Indoor Championship
DESCRIPTION:3000m
URL:https://usarw.racewalk.com/event/2026-new-england-east-region-masters-indoor-championship/
LOCATION:Providence Career and Technical Academy\, 91 Fricker St\, Providence\, RI\, 02908\, United States
CATEGORIES:Association Championship,Invitational Meet,Regional Championship
END:VEVENT
BEGIN:VEVENT
DTSTART;VALUE=DATE:20260201
DTEND;VALUE=DATE:20260202
DTSTAMP:20260424T002340
CREATED:20251227T020805Z
LAST-MODIFIED:20251227T020805Z
UID:1321-1769904000-1769990399@usarw.racewalk.com
SUMMARY:2026 Illinois Indoor Championship
DESCRIPTION:3000m
URL:https://usarw.racewalk.com/event/2026-illinois-indoor-championship/
LOCATION:Lews University\, One University Parkway\, Romeoville\, IL\, 60446\, United States
CATEGORIES:Association Championship
END:VEVENT
BEGIN:VEVENT
DTSTART;VALUE=DATE:20260206
DTEND;VALUE=DATE:20260207
DTSTAMP:20260424T002340
CREATED:20260203T212302Z
LAST-MODIFIED:20260203T212302Z
UID:1550-1770336000-1770422399@usarw.racewalk.com
SUMMARY:2026 Camel City Sprints
DESCRIPTION:3000m to replace canceled Asics Superblast Invite
URL:https://usarw.racewalk.com/event/2026-camel-city-sprints/
LOCATION:JDL Fast Track\, 2505 Empire Drive\, Winston-Salem\, NC\, 27103\, United States
CATEGORIES:Invitational Meet
END:VEVENT
BEGIN:VEVENT
DTSTART;VALUE=DATE:20260208
DTEND;VALUE=DATE:20260209
DTSTAMP:20260424T002340
CREATED:20251104T171848Z
LAST-MODIFIED:20260127T154813Z
UID:1148-1770508800-1770595199@usarw.racewalk.com
SUMMARY:2026 Greater Boston TC Invitational
DESCRIPTION:1 Mile \nNew date!
URL:https://usarw.racewalk.com/event/2026-greater-boston-tc-invitational/
LOCATION:Harvard University Gordon Indoor Track\, 65 N Harvard S\, Boston\, MA\, 02134\, United States
CATEGORIES:Invitational Meet
END:VEVENT
BEGIN:VEVENT
DTSTART;VALUE=DATE:20260208
DTEND;VALUE=DATE:20260209
DTSTAMP:20260424T002340
CREATED:20251206T185257Z
LAST-MODIFIED:20251206T185257Z
UID:1216-1770508800-1770595199@usarw.racewalk.com
SUMMARY:2026 Virginia Indoor Championships
DESCRIPTION:1500m & 3000m
URL:https://usarw.racewalk.com/event/2026-virginia-indoor-championships/
LOCATION:Boo Williams Sportsplex\, 5 Armistead Pointe Pkwy\, Hampton\, VA\, 23666\, United States
CATEGORIES:Association Championship
END:VEVENT
BEGIN:VEVENT
DTSTART;VALUE=DATE:20260208
DTEND;VALUE=DATE:20260209
DTSTAMP:20260424T002340
CREATED:20251227T022030Z
LAST-MODIFIED:20251227T022030Z
UID:1327-1770508800-1770595199@usarw.racewalk.com
SUMMARY:2026 Wisconsin Indoor Championship
DESCRIPTION:TBD
URL:https://usarw.racewalk.com/event/2026-wisconsin-indoor-championship/
LOCATION:Carthage College\, 2001 Alford Park Dr\, Kenosha\, WI\, 53140\, United States
CATEGORIES:Association Championship
END:VEVENT
BEGIN:VEVENT
DTSTART;VALUE=DATE:20260214
DTEND;VALUE=DATE:20260215
DTSTAMP:20260424T002340
CREATED:20250917T230705Z
LAST-MODIFIED:20250917T230705Z
UID:1050-1771027200-1771113599@usarw.racewalk.com
SUMMARY:2026 Concordia Indoor Invite
DESCRIPTION:3000m
URL:https://usarw.racewalk.com/event/2026-concordia-indoor-invite/
LOCATION:Walz Fieldhouse\, E Hillcrest Dr\, Seward\, NE\, 68434\, United States
CATEGORIES:Invitational Meet
END:VEVENT
BEGIN:VEVENT
DTSTART;VALUE=DATE:20260215
DTEND;VALUE=DATE:20260217
DTSTAMP:20260424T002340
CREATED:20250917T220505Z
LAST-MODIFIED:20250917T220505Z
UID:1029-1771113600-1771286399@usarw.racewalk.com
SUMMARY:2026 Reno Indoor Track President’s Invite
DESCRIPTION:TBD
URL:https://usarw.racewalk.com/event/2026-reno-indoor-track-presidents-invite/
LOCATION:Reno-Sparks Convention Center\, 4590 S Virginia St\, Reno\, NV\, 89502\, United States
CATEGORIES:Invitational Meet
END:VEVENT
BEGIN:VEVENT
DTSTART;VALUE=DATE:20260219
DTEND;VALUE=DATE:20260221
DTSTAMP:20260424T002340
CREATED:20250708T204744Z
LAST-MODIFIED:20250708T204744Z
UID:832-1771459200-1771631999@usarw.racewalk.com
SUMMARY:2026 Appalachian Athletic Conference Championship
DESCRIPTION:3000m
URL:https://usarw.racewalk.com/event/2026-appalachian-athletic-conference-championship/
LOCATION:JDL Fast Track\, 2505 Empire Drive\, Winston-Salem\, NC\, 27103\, United States
CATEGORIES:Conference Championship,WA Calendar Event
END:VEVENT
BEGIN:VEVENT
DTSTART;VALUE=DATE:20260219
DTEND;VALUE=DATE:20260221
DTSTAMP:20260424T002340
CREATED:20250723T212047Z
LAST-MODIFIED:20260206T023702Z
UID:857-1771459200-1771631999@usarw.racewalk.com
SUMMARY:2026 USATF Masters Indoor Championship
DESCRIPTION:Thurs\, Feb. 19: 1 mile racewalk\n\n\n3:00 pm. Women 65-84\n\n\n3:25 pm. Women 25-64\n\n\n3:45 pm. Men 70-94\n\n\n4:00 pm. Men 65\n\n\n5:00 pm. Men 25-64 \n\n\n\nFriday\, Feb. 20: 3000m racewalk\n\n\n2:30 pm. Women 70-84\n\n\n3:10 pm. Women 40-69\n\n\n3:40 pm. Men 75-94\n\n\n4:15 pm. Men 65-74\n\n\n4:50 pm. Men 30-64
URL:https://usarw.racewalk.com/event/2026-usatf-masters-indoor-championship/
LOCATION:Albuquerque Convention Center\, 401 2nd St NW\, Albuquerque\, NM\, 87102\, United States
CATEGORIES:National Championship
END:VEVENT
BEGIN:VEVENT
DTSTART;VALUE=DATE:20260222
DTEND;VALUE=DATE:20260223
DTSTAMP:20260424T002340
CREATED:20251104T172123Z
LAST-MODIFIED:20251104T172123Z
UID:1150-1771718400-1771804799@usarw.racewalk.com
SUMMARY:2026 New England Indoor Championship
DESCRIPTION:3000m & 1 Mile (concurrent w/ 20 min limit)
URL:https://usarw.racewalk.com/event/2026-new-england-indoor-championship/
LOCATION:Harvard University Gordon Indoor Track\, 65 N Harvard S\, Boston\, MA\, 02134\, United States
CATEGORIES:Association Championship
END:VEVENT
BEGIN:VEVENT
DTSTART;VALUE=DATE:20260228
DTEND;VALUE=DATE:20260301
DTSTAMP:20260424T002340
CREATED:20250510T211503Z
LAST-MODIFIED:20260228T155941Z
UID:699-1772236800-1772323199@usarw.racewalk.com
SUMMARY:2026 USATF Indoor Championship
DESCRIPTION:
URL:https://usarw.racewalk.com/event/2026-usatf-indoor-championship/
LOCATION:Ocean Breeze\, 625 Father Capodanno Blvd\, Staten Island\, NY\, 10305\, United States
CATEGORIES:National Championship,WA Calendar Event
END:VEVENT
END:VCALENDAR