BEGIN:VCALENDAR
VERSION:2.0
PRODID:-//USA Race Walking - ECPv6.15.20//NONSGML v1.0//EN
CALSCALE:GREGORIAN
METHOD:PUBLISH
X-WR-CALNAME:USA Race Walking
X-ORIGINAL-URL:https://usarw.racewalk.com
X-WR-CALDESC:Events for USA Race Walking
REFRESH-INTERVAL;VALUE=DURATION:PT1H
X-Robots-Tag:noindex
X-PUBLISHED-TTL:PT1H
BEGIN:VTIMEZONE
TZID:UTC
BEGIN:STANDARD
TZOFFSETFROM:+0000
TZOFFSETTO:+0000
TZNAME:UTC
DTSTART:20230101T000000
END:STANDARD
END:VTIMEZONE
BEGIN:VEVENT
DTSTART;TZID=UTC:20241229T080000
DTEND;TZID=UTC:20241229T170000
DTSTAMP:20260424T152126
CREATED:20241213T223704Z
LAST-MODIFIED:20241213T223704Z
UID:43-1735459200-1735491600@usarw.racewalk.com
SUMMARY:2nd Annual Marathon Sports Winter Classic
DESCRIPTION:1 mile walk at 3:50pm on Dec 29 at New Balance (track will be flat/banks not raised) as part of the Marathon Sports Winter Classic.
URL:https://usarw.racewalk.com/event/2nd-annual-marathon-sports-winter-classic/
LOCATION:The TRACK at New Balance\, 91 Guest St\, Boston\, MA\, 02135\, United States
CATEGORIES:Invitational Meet
END:VEVENT
END:VCALENDAR