BEGIN:VCALENDAR
VERSION:2.0
PRODID:-//USA Race Walking - ECPv6.15.20//NONSGML v1.0//EN
CALSCALE:GREGORIAN
METHOD:PUBLISH
X-WR-CALNAME:USA Race Walking
X-ORIGINAL-URL:https://usarw.racewalk.com
X-WR-CALDESC:Events for USA Race Walking
REFRESH-INTERVAL;VALUE=DURATION:PT1H
X-Robots-Tag:noindex
X-PUBLISHED-TTL:PT1H
BEGIN:VTIMEZONE
TZID:UTC
BEGIN:STANDARD
TZOFFSETFROM:+0000
TZOFFSETTO:+0000
TZNAME:UTC
DTSTART:20240101T000000
END:STANDARD
END:VTIMEZONE
BEGIN:VTIMEZONE
TZID:UTC
BEGIN:STANDARD
TZOFFSETFROM:+0000
TZOFFSETTO:+0000
TZNAME:UTC
DTSTART:20240101T000000
END:STANDARD
END:VTIMEZONE
BEGIN:VEVENT
DTSTART;VALUE=DATE:20250718
DTEND;VALUE=DATE:20250721
DTSTAMP:20260424T054143
CREATED:20250408T011252Z
LAST-MODIFIED:20250524T031352Z
UID:623-1752796800-1753055999@usarw.racewalk.com
SUMMARY:2025 USATF Masters Track & Field Championship
DESCRIPTION:Day Two – Friday\, July 18 \n5000m Race Walk W 25-100+\n5000m Race Walk M 25-100+ \nDay Four – Sunday\, July 20 \n10k Race Walk W 25-100+\n10k Race Walk M 25-100+
URL:https://usarw.racewalk.com/event/2025-usatf-masters-track-field-championship/
LOCATION:Milton Frank Stadium\, 2801 15th Ave SW\, Huntsville\, AL\, 35805\, United States
CATEGORIES:National Championship
END:VEVENT
BEGIN:VEVENT
DTSTART;VALUE=DATE:20250711
DTEND;VALUE=DATE:20250714
DTSTAMP:20260424T054143
CREATED:20250510T210916Z
LAST-MODIFIED:20250621T204218Z
UID:693-1752192000-1752451199@usarw.racewalk.com
SUMMARY:2025 Pan Am U20 Championship
DESCRIPTION:USATF decided to not send a team to this event. \nYou can read the press release on that reasoning here. \nUSATF not sending team to Pan Am U20
URL:https://usarw.racewalk.com/event/2025-pan-am-u20-championship/
LOCATION:British Columbia
CATEGORIES:Area Championship
END:VEVENT
BEGIN:VEVENT
DTSTART;TZID=UTC:20250709T163000
DTEND;TZID=UTC:20250709T200000
DTSTAMP:20260424T054143
CREATED:20250611T151646Z
LAST-MODIFIED:20250611T151646Z
UID:770-1752078600-1752091200@usarw.racewalk.com
SUMMARY:2025 Long Island Championship
DESCRIPTION:Mile RW
URL:https://usarw.racewalk.com/event/2025-long-island-championship/
LOCATION:Levittown Division High School\, 120 Division Ave\, Levittown\, NY\, 11756\, United States
CATEGORIES:Association Championship
END:VEVENT
BEGIN:VEVENT
DTSTART;TZID=UTC:20250705T100000
DTEND;TZID=UTC:20250705T170000
DTSTAMP:20260424T054143
CREATED:20250507T132457Z
LAST-MODIFIED:20250507T132457Z
UID:668-1751709600-1751734800@usarw.racewalk.com
SUMMARY:Lake Erie Track & Field Championship
DESCRIPTION:5000m
URL:https://usarw.racewalk.com/event/lake-erie-track-field-championship/
LOCATION:SPIRE Institute\, 5201 Spire Circle\, Geneva\, OH\, 44041\, United States
CATEGORIES:Association Championship
END:VEVENT
BEGIN:VEVENT
DTSTART;TZID=UTC:20250629T080000
DTEND;TZID=UTC:20250629T170000
DTSTAMP:20260424T054143
CREATED:20250408T010927Z
LAST-MODIFIED:20250428T205101Z
UID:620-1751184000-1751216400@usarw.racewalk.com
SUMMARY:2025 New Jersey Track & Field Championship
DESCRIPTION:This meet will also serve as the Mid Atlantic Championship. \n3000m \nRegistration – https://www.simplyregister.net/register/?e=127670
URL:https://usarw.racewalk.com/event/2025-new-jersey-track-field-championship/
LOCATION:Peddie School\, 201 S Main St\, Hightstown\, NJ\, 08520\, United States
CATEGORIES:Association Championship
END:VEVENT
BEGIN:VEVENT
DTSTART;TZID=UTC:20250629T080000
DTEND;TZID=UTC:20250629T170000
DTSTAMP:20260424T054143
CREATED:20250407T201530Z
LAST-MODIFIED:20250428T215035Z
UID:603-1751184000-1751216400@usarw.racewalk.com
SUMMARY:2025 Virginia Open & Masters Outdoor Championships
DESCRIPTION:Held concurrently with the 2025 USATF Southeast Region Masters Outdoor Championships \n5000m
URL:https://usarw.racewalk.com/event/2025-virginia-open-masters-outdoor-championships/
LOCATION:JR Tucker High School\, 2910 N Parham Rd\, Henrico\, VA\, 23294\, United States
CATEGORIES:Association Championship,Regional Championship
END:VEVENT
BEGIN:VEVENT
DTSTART;VALUE=DATE:20250622
DTEND;VALUE=DATE:20250623
DTSTAMP:20260424T054143
CREATED:20250516T223909Z
LAST-MODIFIED:20250524T004518Z
UID:730-1750550400-1750636799@usarw.racewalk.com
SUMMARY:2025 Chula Vista International Invitational
DESCRIPTION:2025 Chula Vista International Race Walk Invitational for Men\, Women\, & Masters\nA World Athletics Race Walking Tour Bronze Label Event \nEvents Include:\nOpen Men’s\, Women’s & Masters 35km\, 20km\, 10km\, and 5km International Race Walk Invitationals\,\nYouth 5km & 3km Races \nChula Vista Elite Athlete Training Center\, 2000 Wuste Road\, Chula Vista\, CA 91915 \nEntry Form \nDirections from Downtown San Diego: Get on 805 South. Avoiding the tolls\, exit on East Orange Avenue; go left on Olympic Parkway for about 10 minutes to a right on Wuste Road to the CVEATC Security Gate. \nDirections from Los Angeles: Head South on I-5. Continue onto 805 South. Avoiding the tolls\, exit on East Orange Avenue; go left on Olympic Parkway for about 10 minutes to a right on Wuste Road to the CVEATC Security Gate.
URL:https://usarw.racewalk.com/event/2025-chula-vista-international-invitational/
LOCATION:Chula Vista EATC\, 2800 Olympic Pkwy\, Chula Vista\, 91915\, United States
CATEGORIES:Invitational Meet,WA Calendar Event
END:VEVENT
BEGIN:VEVENT
DTSTART;TZID=UTC:20250621T090000
DTEND;TZID=UTC:20250621T093000
DTSTAMP:20260424T054143
CREATED:20250407T193124Z
LAST-MODIFIED:20250407T193124Z
UID:599-1750496400-1750498200@usarw.racewalk.com
SUMMARY:2025 New Balance Outdoor Nationals
DESCRIPTION:1 Mile men and women
URL:https://usarw.racewalk.com/event/2025-new-balance-outdoor-nationals/
LOCATION:Franklin Field\, 235 S 33rd St\, Philadelphia\, PA\, 19104\, United States
CATEGORIES:National Championship
END:VEVENT
BEGIN:VEVENT
DTSTART;TZID=UTC:20250620T073000
DTEND;TZID=UTC:20250620T090000
DTSTAMP:20260424T054143
CREATED:20250407T192511Z
LAST-MODIFIED:20250407T192511Z
UID:597-1750404600-1750410000@usarw.racewalk.com
SUMMARY:2025 Nike Outdoor Nationals
DESCRIPTION:Races will be held concurrently with the USATF U20 Championships \n10000m men and women
URL:https://usarw.racewalk.com/event/2025-nike-outdoor-nationals/
LOCATION:Hayward Field\, 1530 Agate St\, Eugene\, OR\, 97403\, United States
CATEGORIES:National Championship
END:VEVENT
BEGIN:VEVENT
DTSTART;TZID=UTC:20250620T073000
DTEND;TZID=UTC:20250620T090000
DTSTAMP:20260424T054143
CREATED:20241213T231143Z
LAST-MODIFIED:20250516T233359Z
UID:63-1750404600-1750410000@usarw.racewalk.com
SUMMARY:2025 USATF U20 Outdoor Championships
DESCRIPTION:Races will be held concurrently with the Nike Outdoor Nationals \n10000m for men and women \n 
URL:https://usarw.racewalk.com/event/2025-usatf-u20-outdoor-championships/
LOCATION:Hayward Field\, 1530 Agate St\, Eugene\, OR\, 97403\, United States
CATEGORIES:National Championship,Team Selection,WA Calendar Event
END:VEVENT
BEGIN:VEVENT
DTSTART;TZID=UTC:20250617T201500
DTEND;TZID=UTC:20250617T220000
DTSTAMP:20260424T054143
CREATED:20250608T002358Z
LAST-MODIFIED:20250608T002358Z
UID:762-1750191300-1750197600@usarw.racewalk.com
SUMMARY:2005 Executive Committee Meeting 3
DESCRIPTION:Guests are welcome\, but will be muted. \nGuests must request to attend by emailing Janelle Branch by 6/13 at 12pm ET.
URL:https://usarw.racewalk.com/event/2005-executive-committee-meeting-3/
LOCATION:British Columbia
CATEGORIES:Committee Meeting
ORGANIZER;CN="Janelle Branch":MAILTO:janellebranch0712@gmail.com
END:VEVENT
BEGIN:VEVENT
DTSTART;TZID=UTC:20250614T110000
DTEND;TZID=UTC:20250614T150000
DTSTAMP:20260424T054143
CREATED:20250408T010406Z
LAST-MODIFIED:20250428T214936Z
UID:617-1749898800-1749913200@usarw.racewalk.com
SUMMARY:2025 New York Track & Field Championship
DESCRIPTION:3000m
URL:https://usarw.racewalk.com/event/2025-new-york-track-field-championship/
LOCATION:Icahn Stadium\, 20 Randall's Island\, New York City\, NY\, 10135\, United States
CATEGORIES:Association Championship
END:VEVENT
BEGIN:VEVENT
DTSTART;TZID=UTC:20250614T080000
DTEND;TZID=UTC:20250614T170000
DTSTAMP:20260424T054143
CREATED:20250408T010028Z
LAST-MODIFIED:20250428T214819Z
UID:614-1749888000-1749920400@usarw.racewalk.com
SUMMARY:2025 Wisconsin Track & Field Championship
DESCRIPTION:3000m
URL:https://usarw.racewalk.com/event/2025-wisconsin-track-field-championship/
LOCATION:Carroll University\, 100 N. East Avenue\, Waukesha\, WI\, 53186\, United States
CATEGORIES:Association Championship
END:VEVENT
BEGIN:VEVENT
DTSTART;VALUE=DATE:20250613
DTEND;VALUE=DATE:20250615
DTSTAMP:20260424T054143
CREATED:20250408T005715Z
LAST-MODIFIED:20250408T005715Z
UID:611-1749772800-1749945599@usarw.racewalk.com
SUMMARY:2025 Gulf Track & Field Championship
DESCRIPTION:Distance TBA
URL:https://usarw.racewalk.com/event/2025-gulf-track-field-championship/
LOCATION:George Turner Stadium\, 1700 Wilson Rd\, Humble\, TX\, 77396\, United States
CATEGORIES:Association Championship
END:VEVENT
BEGIN:VEVENT
DTSTART;TZID=UTC:20250607T090000
DTEND;TZID=UTC:20250607T170000
DTSTAMP:20260424T054143
CREATED:20250312T213726Z
LAST-MODIFIED:20250428T214332Z
UID:528-1749286800-1749315600@usarw.racewalk.com
SUMMARY:2025 Michigan Outdoor Track & Field Championship
DESCRIPTION:5000m RW
URL:https://usarw.racewalk.com/event/2025-michigan-outdoor-track-field-championship/
LOCATION:Olivet College\, 320 S. Main St\, Olivet\, MI\, 49076\, United States
CATEGORIES:Association Championship
END:VEVENT
BEGIN:VEVENT
DTSTART;TZID=UTC:20250607T080000
DTEND;TZID=UTC:20250607T170000
DTSTAMP:20260424T054143
CREATED:20250510T140306Z
LAST-MODIFIED:20250510T140306Z
UID:689-1749283200-1749315600@usarw.racewalk.com
SUMMARY:2025 South Carolina Championship
DESCRIPTION:3000m
URL:https://usarw.racewalk.com/event/2025-south-carolina-championship/
LOCATION:Eastside High School\, 1300 Brushy Creek Rd\, Taylors\, SC\, 29687\, United States
CATEGORIES:Association Championship
END:VEVENT
BEGIN:VEVENT
DTSTART;TZID=UTC:20250601T090000
DTEND;TZID=UTC:20250601T120000
DTSTAMP:20260424T054143
CREATED:20250426T031124Z
LAST-MODIFIED:20250516T132546Z
UID:638-1748768400-1748779200@usarw.racewalk.com
SUMMARY:2025 Roman Olszewski Racewalks
DESCRIPTION:Events and Awards: \n· 3 K –non judged · 5 K Open – Judge \n· 10 K Ontario Junior & Open Championships \n· 20 K Open (Time Limit: 2:10:00) \nAge Graded 10km: All athletes entered in the 10k and 20k are automatically entered in the 10k age graded event at no charge. \nAwards: Medals to first three finishers in each event. \nLate Entries: Wednesday\, May 28\, 2025 by 2:00pm. \nHow to get to the race site \nYou must go to the Toronto Island Ferry Docks. Make sure to take the Hanlan’s Point Ferry. Attached is a map which shows the meeting place on Hanlan’s Point. You will find signposts directing you to the registration desk\, which is within easy walking distance of the Hanlan’s Point Ferry Dock – 15 minute walk. Special Note for competitors: You should take the 7:15 or 7:45am ferry to ensure that you arrive early enough to pick up race package and warm up. Please check ferry schedule close to race date in case schedule changes. \nFerry Information \nTo obtain the Hanlan’s Point Ferry schedule: 416.392.8193 \nOr www.toronto.ca/parks/island/index.htm \nDescription of Race Day and Course \nWhen you leave the Hanlan’s Point Ferry\, continue due south. Please follow the “Ontario Racewalkers” signs. \nBib Number pick-up at the Start/Finish Line. \nThe course is a 2.0 km very flat loop course\, close by the water’s edge. \nPublic washrooms & showers are available on race site. Light lunch/refreshments will be provided while waiting for results. \nFor further information please contact: Lily Whalen at 416-243-5413\, email: staffordwhalen@rogers.com \nContact on Race Day: Stafford’s Cell # 647-292-5413 . \n  \n  \nThe Roman Olszewski Racewalks \nOntario U20 & Open Men’s & Women’s 10km Walk Championships \nSunday\, June 1\, 2025 Hanlan’s Point\, Toronto Island \nAll races start at 9:15am \nTo Register: You must go to www.athleticsontario.ca click on “Events”. \nFees: $35 \nSpecial Note: 20k Athletes wishing to compete in the Provincial 10k Championships must enter both events and pay $35 for the first event and $10 for the second event. Please note\, you must finish the 20k for your 10k time to be official. \nNote: Athletes entering the Ontario 10k Champs. must be registered with Athletics Ontario Or their provincial/state assoc. no later than 11:59 pm\, Sunday\, May 25\, 2025. \nPAYMENT METHOD: Online when registering. \nFor further information please contact: Lily Whalen lilywhalen@rogers.com or call 416-243-5413.
URL:https://usarw.racewalk.com/event/2025-roman-olszewski-racewalks/
LOCATION:Hanlan’s Point\, Lakeshore Ave #464\, Toronto\, Ontario\, M5J 2W2\, Canada
CATEGORIES:Invitational Meet,WA Calendar Event
END:VEVENT
BEGIN:VEVENT
DTSTART;TZID=UTC:20250531T080000
DTEND;TZID=UTC:20250531T170000
DTSTAMP:20260424T054143
CREATED:20250509T203752Z
LAST-MODIFIED:20250509T203752Z
UID:679-1748678400-1748710800@usarw.racewalk.com
SUMMARY:2025 Connecticut Championship
DESCRIPTION:1500m
URL:https://usarw.racewalk.com/event/2025-connecticut-championship/
LOCATION:Middletown High School\, 200 La Rosa Lane\, Middletown\, 06457\, United States
CATEGORIES:Association Championship
END:VEVENT
BEGIN:VEVENT
DTSTART;TZID=UTC:20250524T090000
DTEND;TZID=UTC:20250524T220000
DTSTAMP:20260424T054143
CREATED:20250408T011932Z
LAST-MODIFIED:20250428T214115Z
UID:629-1748077200-1748124000@usarw.racewalk.com
SUMMARY:2025 Davidson College Meet of Champions
DESCRIPTION:1 Mile – HS athletes only \n1st event on the schedule
URL:https://usarw.racewalk.com/event/2025-davidson-college-meet-of-champions/
LOCATION:Richardson Stadium\, 200 Baker Dr\, Davidson\, NC\, 28036\, United States
CATEGORIES:Invitational Meet
END:VEVENT
BEGIN:VEVENT
DTSTART;TZID=UTC:20250524T080000
DTEND;TZID=UTC:20250524T170000
DTSTAMP:20260424T054143
CREATED:20250408T004953Z
LAST-MODIFIED:20250428T213919Z
UID:608-1748073600-1748106000@usarw.racewalk.com
SUMMARY:2025 Southwestern Track & Field Championship
DESCRIPTION:1500m
URL:https://usarw.racewalk.com/event/2025-southwestern-track-field-championship/
LOCATION:A.P. Ranch\, 1590 Ranch to Market Rd 2871\, Fort Worth\, TX\, 76126\, United States
CATEGORIES:Association Championship
END:VEVENT
BEGIN:VEVENT
DTSTART;TZID=UTC:20250524T070000
DTEND;TZID=UTC:20250524T180000
DTSTAMP:20260424T054143
CREATED:20250509T203432Z
LAST-MODIFIED:20250509T203432Z
UID:676-1748070000-1748109600@usarw.racewalk.com
SUMMARY:2025 Arizona Championship
DESCRIPTION:1500/3000m
URL:https://usarw.racewalk.com/event/2025-arizona-championship/
LOCATION:Mesa Community College\, 1833 W Southern Avenue\, Mesa\, AZ\, 85202\, United States
CATEGORIES:Association Championship
END:VEVENT
BEGIN:VEVENT
DTSTART;TZID=UTC:20250518T080000
DTEND;TZID=UTC:20250518T120000
DTSTAMP:20260424T054143
CREATED:20250428T004350Z
LAST-MODIFIED:20250428T004350Z
UID:655-1747555200-1747569600@usarw.racewalk.com
SUMMARY:2025 Oregon 5000m Championship
DESCRIPTION:Race Walk clinic\, developmental 1500m & 5000m events
URL:https://usarw.racewalk.com/event/2025-oregon-5000m-championship/
LOCATION:Rex Putnam High School\, 4950 SE Roethe Rd\, Milwaukie\, OR\, 97267\, United States
CATEGORIES:Association Championship,Invitational Meet
END:VEVENT
BEGIN:VEVENT
DTSTART;TZID=UTC:20250504T080000
DTEND;TZID=UTC:20250504T120000
DTSTAMP:20260424T054143
CREATED:20241221T170058Z
LAST-MODIFIED:20250429T014450Z
UID:243-1746345600-1746360000@usarw.racewalk.com
SUMMARY:2025 Ohio Championship - Jack Mortland 20000m
DESCRIPTION:5\,000m \, 10\,000m \, and 20\,000m distances will be conducted (a 35\,000m distance may be accepted in case of vying for 2025 World Athletics Championships qualification) \n 
URL:https://usarw.racewalk.com/event/2025-ohio-association-championship-jack-mortland-20000m/
LOCATION:Athletes in Action Sports Complex\, 1197 S Detroit St\, Xenia\, OH\, 45385\, United States
CATEGORIES:Association Championship,Invitational Meet,WA Calendar Event
END:VEVENT
BEGIN:VEVENT
DTSTART;VALUE=DATE:20250504
DTEND;VALUE=DATE:20250505
DTSTAMP:20260424T054143
CREATED:20250324T180842Z
LAST-MODIFIED:20250324T180911Z
UID:569-1746316800-1746403199@usarw.racewalk.com
SUMMARY:2025 RK Race Walk Cup
DESCRIPTION:Race Schedule\n08:00 – 20km M elite\n10:00 – 20km W elite\n12:00 – 10km M & W U20\n13:00 – Victory Ceremonies Elite M & W
URL:https://usarw.racewalk.com/event/2025-rk-race-walk-cup/
LOCATION:RK RW Cup\, Plac Teatralny\, Warsaw\, Poland
CATEGORIES:Invitational Meet,WA Calendar Event
END:VEVENT
BEGIN:VEVENT
DTSTART;TZID=UTC:20250429T203000
DTEND;TZID=UTC:20250429T213000
DTSTAMP:20260424T054143
CREATED:20250428T002452Z
LAST-MODIFIED:20250428T002452Z
UID:653-1745958600-1745962200@usarw.racewalk.com
SUMMARY:RW Officials Best Practices
DESCRIPTION:Topic: RW Officials Sub-committee meeting\nTime: Apr 28\, 2025 08:30 PM Eastern Time (US and Canada)\nJoin Zoom Meeting\nhttps://us02web.zoom.us/j/83475321089?pwd=rk8ndzZgD4vFsybaso9uNzaaI1AW4a.1 \nMeeting ID: 834 7532 1089\nPasscode: 108757
URL:https://usarw.racewalk.com/event/rw-officials-best-practices/
LOCATION:British Columbia
CATEGORIES:Committee Meeting
END:VEVENT
BEGIN:VEVENT
DTSTART;TZID=UTC:20250426T070000
DTEND;TZID=UTC:20250426T090000
DTSTAMP:20260424T054143
CREATED:20241214T041859Z
LAST-MODIFIED:20241219T190748Z
UID:118-1745650800-1745658000@usarw.racewalk.com
SUMMARY:2025 Penn Relays
DESCRIPTION:5000m – divisions for HS Girls\, Women & Men \nWA Silver Level event \nPenn Relays 2025 Entry Form
URL:https://usarw.racewalk.com/event/2025-penn-relays/
LOCATION:Franklin Field\, 235 S 33rd St\, Philadelphia\, PA\, 19104\, United States
CATEGORIES:Invitational Meet,WA Calendar Event
END:VEVENT
BEGIN:VEVENT
DTSTART;TZID=UTC:20250415T201500
DTEND;TZID=UTC:20250415T220000
DTSTAMP:20260424T054143
CREATED:20250409T175438Z
LAST-MODIFIED:20250409T175438Z
UID:633-1744748100-1744754400@usarw.racewalk.com
SUMMARY:2025 Executive Committee Meeting 2
DESCRIPTION:Guests are welcome\, but will be muted. \nGuests must request to attend by emailing Janelle Branch by 4/13 at 12pm ET.
URL:https://usarw.racewalk.com/event/2025-executive-committee-meeting-2-2/
LOCATION:British Columbia
CATEGORIES:Committee Meeting
ORGANIZER;CN="Janelle Branch":MAILTO:janellebranch0712@gmail.com
END:VEVENT
BEGIN:VEVENT
DTSTART;TZID=UTC:20250405T090000
DTEND;TZID=UTC:20250405T170000
DTSTAMP:20260424T054143
CREATED:20250122T025500Z
LAST-MODIFIED:20250122T030540Z
UID:388-1743843600-1743872400@usarw.racewalk.com
SUMMARY:2025 VertKlasse Meeting
DESCRIPTION:5000m RW (max time 45:00) \nThis is a High Performance Meet. Athletes who have not completed the race in the allotted time will be stopped & listed as a DNF.
URL:https://usarw.racewalk.com/event/2025-vertklasse-meeting/
LOCATION:Vert Stadium\, 1018 Panther Drive\, High Point\, NC\, 27262\, United States
CATEGORIES:Invitational Meet,WA Calendar Event
END:VEVENT
BEGIN:VEVENT
DTSTART;TZID=UTC:20250330T103000
DTEND;TZID=UTC:20250330T150000
DTSTAMP:20260424T054143
CREATED:20250130T022931Z
LAST-MODIFIED:20250130T022931Z
UID:398-1743330600-1743346800@usarw.racewalk.com
SUMMARY:2025 Maria Michta-Coffey Invitational
DESCRIPTION:11:30 check in \n12:00 3000m – HS coed \n12:30 5000m HS coed \n1:10 1500m HS coed \n1:30 3000m & 5000m Open/Masters \nAll questions and registration via email to ajyoung@aol.com
URL:https://usarw.racewalk.com/event/2025-maria-michta-coffey-invitational/
LOCATION:Sachem North HS\, 212 Smith St\, Lake Ronkonkoma\, NY\, 11779\, United States
CATEGORIES:Invitational Meet
END:VEVENT
BEGIN:VEVENT
DTSTART;TZID=UTC:20250323T080000
DTEND;TZID=UTC:20250330T170000
DTSTAMP:20260424T054143
CREATED:20241213T230909Z
LAST-MODIFIED:20241213T230909Z
UID:61-1742716800-1743354000@usarw.racewalk.com
SUMMARY:2025 WMA Indoor Championships
DESCRIPTION:3000m Men Thursday 3/27 \n3000m Women Thursday 3/28 \n10km Men & Women Sunday 3/30
URL:https://usarw.racewalk.com/event/2025-wma-indoor-championships/
LOCATION:Alachua County Sports & Events Center\, 4870 Celebration Pointe Ave\, Gainesville\, FL\, 32608\, United States
CATEGORIES:World Championship
END:VEVENT
END:VCALENDAR