BEGIN:VCALENDAR
VERSION:2.0
PRODID:-//USA Race Walking - ECPv6.15.20//NONSGML v1.0//EN
CALSCALE:GREGORIAN
METHOD:PUBLISH
X-WR-CALNAME:USA Race Walking
X-ORIGINAL-URL:https://usarw.racewalk.com
X-WR-CALDESC:Events for USA Race Walking
REFRESH-INTERVAL;VALUE=DURATION:PT1H
X-Robots-Tag:noindex
X-PUBLISHED-TTL:PT1H
BEGIN:VTIMEZONE
TZID:UTC
BEGIN:STANDARD
TZOFFSETFROM:+0000
TZOFFSETTO:+0000
TZNAME:UTC
DTSTART:20240101T000000
END:STANDARD
END:VTIMEZONE
BEGIN:VEVENT
DTSTART;VALUE=DATE:20251101
DTEND;VALUE=DATE:20251102
DTSTAMP:20260423T223516
CREATED:20250831T000300Z
LAST-MODIFIED:20250831T000300Z
UID:959-1761955200-1762041599@usarw.racewalk.com
SUMMARY:2025 Prague 1 Hour
DESCRIPTION:1 Hour track race
URL:https://usarw.racewalk.com/event/2025-prague-1-hour/
LOCATION:SC Radotín Prague\, Ke Zděř 1721/21\, Prague\, 5 Radotín\, Czech Republic
CATEGORIES:WA Calendar Event
END:VEVENT
BEGIN:VEVENT
DTSTART;TZID=UTC:20251102T090000
DTEND;TZID=UTC:20251102T120000
DTSTAMP:20260423T223516
CREATED:20250915T220039Z
LAST-MODIFIED:20250915T220039Z
UID:1018-1762074000-1762084800@usarw.racewalk.com
SUMMARY:2025 Connecticut Championship
DESCRIPTION:USATF-CT Association Racewalk Championship\nSunday Nov 2\, 2025\n9:30am 1 Mile fun Walk\n10:00am 5000m (3.1miles) Open/ Jrs/ Masters\nPeters Recreational Complex Track\, 137 Glenwood Rd – Clinton\, Connecticut 06413\n5000m Awards – Open\, Jrs and Masters / Ribbons for 1 mile fun walk.\nPlease be prepared to keep count of your laps or bring someone who can.\nEntry Fee $15.00- 5K $5.00-1 Mile – Payable at the event cash or make checks payable to\nConnecticut Racewalkers.\nCall or Maryanne/ Ron Daniel 203-215-6301 for more info.\nPlease e-mail ctracewalk@sbcglobal.net to indicate you are racing.
URL:https://usarw.racewalk.com/event/2025-connecticut-championship-2/
LOCATION:Peters Recreational Complex Track\, 137 Glenwood Road\, Clinton\, CT\, 06413\, United States
CATEGORIES:Association Championship
END:VEVENT
BEGIN:VEVENT
DTSTART;VALUE=DATE:20251114
DTEND;VALUE=DATE:20251117
DTSTAMP:20260423T223516
CREATED:20250829T003659Z
LAST-MODIFIED:20250910T010752Z
UID:916-1763078400-1763337599@usarw.racewalk.com
SUMMARY:2025 On The Rise Race Walk Camp
DESCRIPTION:Full detail on the Race Walk Camp can be found here: \n2025 On The Rise Race Walk Camp \n \n 
URL:https://usarw.racewalk.com/event/2025-on-the-rise-race-walk-camp/
LOCATION:Athletes in Action Sports Complex\, 1197 S Detroit St\, Xenia\, OH\, 45385\, United States
CATEGORIES:Training Camp
END:VEVENT
BEGIN:VEVENT
DTSTART;VALUE=DATE:20251115
DTEND;VALUE=DATE:20251116
DTSTAMP:20260423T223516
CREATED:20250929T032010Z
LAST-MODIFIED:20250929T032010Z
UID:1071-1763164800-1763251199@usarw.racewalk.com
SUMMARY:2025 New York Championship
DESCRIPTION:1 Mile Youth\n5\,000 Meters Open 18-34\n10\,000 Meters Masters 35+
URL:https://usarw.racewalk.com/event/2025-new-york-championship/
LOCATION:Icahn Stadium\, 20 Randall's Island\, New York City\, NY\, 10135\, United States
CATEGORIES:Association Championship
END:VEVENT
BEGIN:VEVENT
DTSTART;TZID=UTC:20251115T090000
DTEND;TZID=UTC:20251115T110000
DTSTAMP:20260423T223516
CREATED:20251001T201834Z
LAST-MODIFIED:20251003T205509Z
UID:1073-1763197200-1763204400@usarw.racewalk.com
SUMMARY:2025 On the Rise Race
DESCRIPTION:3000m\, as a component of the 2025 On the Rise Race Walk Camp \n9:45am race start \nRace only application \nContact: Joel Pfahler – joel.pfahler@athletesinaction.org \n 
URL:https://usarw.racewalk.com/event/2025-on-the-rise-race/
LOCATION:Doden Field House\, Cedarville University\, Cedarville\, OH\, 45314\, United States
CATEGORIES:Invitational Meet
END:VEVENT
BEGIN:VEVENT
DTSTART;TZID=UTC:20251118T201500
DTEND;TZID=UTC:20251118T220000
DTSTAMP:20260423T223516
CREATED:20251107T192938Z
LAST-MODIFIED:20251107T193016Z
UID:1158-1763496900-1763503200@usarw.racewalk.com
SUMMARY:2005 Executive Committee Meeting 5
DESCRIPTION:Guests are welcome\, but will be muted. \n\nGuests must request to attend by emailing Janelle Branch by 11/17 at 12pm ET.
URL:https://usarw.racewalk.com/event/2005-executive-committee-meeting-5/
CATEGORIES:Committee Meeting
ORGANIZER;CN="Janelle Branch":MAILTO:janellebranch0712@gmail.com
END:VEVENT
END:VCALENDAR