BEGIN:VCALENDAR
VERSION:2.0
PRODID:-//USA Race Walking - ECPv6.15.20//NONSGML v1.0//EN
CALSCALE:GREGORIAN
METHOD:PUBLISH
X-WR-CALNAME:USA Race Walking
X-ORIGINAL-URL:https://usarw.racewalk.com
X-WR-CALDESC:Events for USA Race Walking
REFRESH-INTERVAL;VALUE=DURATION:PT1H
X-Robots-Tag:noindex
X-PUBLISHED-TTL:PT1H
BEGIN:VTIMEZONE
TZID:UTC
BEGIN:STANDARD
TZOFFSETFROM:+0000
TZOFFSETTO:+0000
TZNAME:UTC
DTSTART:20250101T000000
END:STANDARD
END:VTIMEZONE
BEGIN:VTIMEZONE
TZID:America/New_York
BEGIN:DAYLIGHT
TZOFFSETFROM:-0500
TZOFFSETTO:-0400
TZNAME:EDT
DTSTART:20250309T070000
END:DAYLIGHT
BEGIN:STANDARD
TZOFFSETFROM:-0400
TZOFFSETTO:-0500
TZNAME:EST
DTSTART:20251102T060000
END:STANDARD
BEGIN:DAYLIGHT
TZOFFSETFROM:-0500
TZOFFSETTO:-0400
TZNAME:EDT
DTSTART:20260308T070000
END:DAYLIGHT
BEGIN:STANDARD
TZOFFSETFROM:-0400
TZOFFSETTO:-0500
TZNAME:EST
DTSTART:20261101T060000
END:STANDARD
BEGIN:DAYLIGHT
TZOFFSETFROM:-0500
TZOFFSETTO:-0400
TZNAME:EDT
DTSTART:20270314T070000
END:DAYLIGHT
BEGIN:STANDARD
TZOFFSETFROM:-0400
TZOFFSETTO:-0500
TZNAME:EST
DTSTART:20271107T060000
END:STANDARD
END:VTIMEZONE
BEGIN:VEVENT
DTSTART;VALUE=DATE:20260305
DTEND;VALUE=DATE:20260308
DTSTAMP:20260423T161506
CREATED:20250829T012148Z
LAST-MODIFIED:20250829T012148Z
UID:936-1772668800-1772927999@usarw.racewalk.com
SUMMARY:2026 NAIA Indoor Championship
DESCRIPTION:3000m
URL:https://usarw.racewalk.com/event/2026-naia-indoor-championship/
LOCATION:Alachua County Sports & Events Center\, 4870 Celebration Pointe Ave\, Gainesville\, FL\, 32608\, United States
CATEGORIES:National Championship,WA Calendar Event
END:VEVENT
BEGIN:VEVENT
DTSTART;VALUE=DATE:20260308
DTEND;VALUE=DATE:20260309
DTSTAMP:20260423T161506
CREATED:20250829T005231Z
LAST-MODIFIED:20260205T040854Z
UID:921-1772928000-1773014399@usarw.racewalk.com
SUMMARY:2026 USATF Race Walking World Team Trials and Invitational - Half Marathon and U20 10km
DESCRIPTION:Open Half Marathon & U20 10 km Team Selection event \nInternational entries will be accepted by age divisions in the above race distances as well. \nSoutheast Region & Florida Association 5 km event will be concurrent. \nEvent Details will be consolidated on this page – https://usarw.racewalk.com/2026-usa-team-trials-invitational/
URL:https://usarw.racewalk.com/event/usatf-race-walking-world-team-trials-and-invitational-half-marathon-and-u20-10km/
LOCATION:Alachua County Sports & Events Center\, 4870 Celebration Pointe Ave\, Gainesville\, FL\, 32608\, United States
CATEGORIES:Association Championship,Invitational Meet,Regional Championship,Team Selection,WA Calendar Event
END:VEVENT
BEGIN:VEVENT
DTSTART;VALUE=DATE:20260308
DTEND;VALUE=DATE:20260309
DTSTAMP:20260423T161506
CREATED:20260301T224356Z
LAST-MODIFIED:20260301T224356Z
UID:1610-1772928000-1773014399@usarw.racewalk.com
SUMMARY:2026 Maine Indoor Championship
DESCRIPTION:800/1500/3000m RW
URL:https://usarw.racewalk.com/event/2026-maine-indoor-championship/
LOCATION:Farley Field House\, 35 Watson Drive\, Brunswick\, ME\, 04011\, United States
CATEGORIES:Association Championship
END:VEVENT
BEGIN:VEVENT
DTSTART;VALUE=DATE:20260310
DTEND;VALUE=DATE:20260311
DTSTAMP:20260423T161506
CREATED:20260228T155303Z
LAST-MODIFIED:20260301T224913Z
UID:1592-1773100800-1773187199@usarw.racewalk.com
SUMMARY:2026 Executive Committee Meeting 1
DESCRIPTION:easterGuests are welcome\, but will be muted. \n\nGuests must request to attend by emailing Janelle Branch (racewalksecretary@usatf.org) by 3/9 at 12pm ET.\n\n\nMeeting is at 8:15 ET.
URL:https://usarw.racewalk.com/event/2026-executive-committee-meeting-1/
CATEGORIES:Committee Meeting
END:VEVENT
BEGIN:VEVENT
DTSTART;VALUE=DATE:20260312
DTEND;VALUE=DATE:20260313
DTSTAMP:20260423T161506
CREATED:20260203T192240Z
LAST-MODIFIED:20260203T194352Z
UID:1546-1773273600-1773359999@usarw.racewalk.com
SUMMARY:2026 New Balance Indoor Nationals
DESCRIPTION:1 Mile
URL:https://usarw.racewalk.com/event/2026-new-balance-indoor-nationals/
LOCATION:The TRACK at New Balance\, 91 Guest St\, Boston\, MA\, 02135\, United States
CATEGORIES:National Championship
END:VEVENT
BEGIN:VEVENT
DTSTART;VALUE=DATE:20260313
DTEND;VALUE=DATE:20260314
DTSTAMP:20260423T161506
CREATED:20260302T203115Z
LAST-MODIFIED:20260302T203115Z
UID:1632-1773360000-1773446399@usarw.racewalk.com
SUMMARY:2026 Gotta Run Invite
DESCRIPTION:5000m
URL:https://usarw.racewalk.com/event/2026-gotta-run-invite/
LOCATION:Joe R Gilbert Track and Field\, 635 Wesleyan Dr\, Central\, SC\, 29630\, United States
CATEGORIES:Invitational Meet
END:VEVENT
BEGIN:VEVENT
DTSTART;VALUE=DATE:20260314
DTEND;VALUE=DATE:20260315
DTSTAMP:20260423T161506
CREATED:20250731T191546Z
LAST-MODIFIED:20260205T175905Z
UID:863-1773446400-1773532799@usarw.racewalk.com
SUMMARY:2026 Nike Indoor Nationals
DESCRIPTION:Mile – HS Only
URL:https://usarw.racewalk.com/event/2026-nike-indoor-nationals/
LOCATION:The Armory\, 216 Fort Washington Ave\, New York\, NY\, 10032\, United States
CATEGORIES:National Championship
END:VEVENT
BEGIN:VEVENT
DTSTART;VALUE=DATE:20260314
DTEND;VALUE=DATE:20260315
DTSTAMP:20260423T161506
CREATED:20260203T191531Z
LAST-MODIFIED:20260203T191531Z
UID:1543-1773446400-1773532799@usarw.racewalk.com
SUMMARY:2026 Indiana Indoor Champs
DESCRIPTION:3000m & 1500m
URL:https://usarw.racewalk.com/event/2026-indiana-indoor-champs/
LOCATION:Taylor University\, 1846 Main Street\, Upland\, IN\, 46989\, United States
CATEGORIES:Association Championship
END:VEVENT
BEGIN:VEVENT
DTSTART;VALUE=DATE:20260320
DTEND;VALUE=DATE:20260321
DTSTAMP:20260423T161506
CREATED:20250917T222153Z
LAST-MODIFIED:20251227T023115Z
UID:1036-1773964800-1774051199@usarw.racewalk.com
SUMMARY:2026 Alan Connie Shamrock Invitational
DESCRIPTION:5000m
URL:https://usarw.racewalk.com/event/2026-alan-connie-shamrock-invitational/
LOCATION:Doug Shaw Memorial Stadium\, 705 33rd Ave N\, Myrtle Beach\, SC\, 29577\, United States
CATEGORIES:Invitational Meet,WA Calendar Event
END:VEVENT
BEGIN:VEVENT
DTSTART;VALUE=DATE:20260320
DTEND;VALUE=DATE:20260323
DTSTAMP:20260423T161506
CREATED:20251218T181111Z
LAST-MODIFIED:20251218T181111Z
UID:1276-1773964800-1774223999@usarw.racewalk.com
SUMMARY:2026 USATF Youth Indoor Championship
DESCRIPTION:1500m ages 9-12 \n3000m ages 13-18
URL:https://usarw.racewalk.com/event/2026-usatf-youth-indoor-championship/
LOCATION:Ocean Breeze\, 625 Father Capodanno Blvd\, Staten Island\, NY\, 10305\, United States
CATEGORIES:National Championship
END:VEVENT
BEGIN:VEVENT
DTSTART;VALUE=DATE:20260321
DTEND;VALUE=DATE:20260322
DTSTAMP:20260423T161506
CREATED:20260312T002025Z
LAST-MODIFIED:20260312T002025Z
UID:1679-1774051200-1774137599@usarw.racewalk.com
SUMMARY:2026 Viking Relays
DESCRIPTION:5000m
URL:https://usarw.racewalk.com/event/2026-viking-relays/
LOCATION:Duke Williams Stadium\, 1591 E University Ave\, Des Moines\, IA\, 50316\, United States
CATEGORIES:Invitational Meet
END:VEVENT
BEGIN:VEVENT
DTSTART;VALUE=DATE:20260322
DTEND;VALUE=DATE:20260323
DTSTAMP:20260423T161506
CREATED:20260203T193102Z
LAST-MODIFIED:20260203T193102Z
UID:1548-1774137600-1774223999@usarw.racewalk.com
SUMMARY:2026 Adidas Indoor Championship
DESCRIPTION:1 Mile
URL:https://usarw.racewalk.com/event/2026-adidas-indoor-championship/
LOCATION:Virginia Beach Sports Complex\, 1045 19th St\, Virginia Beach\, VA\, 23451\, United States
CATEGORIES:National Championship
END:VEVENT
BEGIN:VEVENT
DTSTART;VALUE=DATE:20260327
DTEND;VALUE=DATE:20260328
DTSTAMP:20260423T161506
CREATED:20260302T203622Z
LAST-MODIFIED:20260302T203622Z
UID:1635-1774569600-1774655999@usarw.racewalk.com
SUMMARY:2026 Knight Open
DESCRIPTION:5000m
URL:https://usarw.racewalk.com/event/2026-knight-open/
LOCATION:Ascension St. Vincent Field\, 3200 Cold Spring Rd\, Indianapolis\, IN\, 46222\, United States
CATEGORIES:Invitational Meet
END:VEVENT
BEGIN:VEVENT
DTSTART;VALUE=DATE:20260328
DTEND;VALUE=DATE:20260329
DTSTAMP:20260423T161506
CREATED:20250917T231409Z
LAST-MODIFIED:20250917T231409Z
UID:1057-1774656000-1774742399@usarw.racewalk.com
SUMMARY:2026 UBC Open
DESCRIPTION:5000m
URL:https://usarw.racewalk.com/event/2026-ubc-open/
LOCATION:Thunderbird Park\, 2700 East Mall\, Vancouver\, British Columbia\, V6T 1Z1\, Canada
CATEGORIES:Invitational Meet
END:VEVENT
END:VCALENDAR