BEGIN:VCALENDAR
VERSION:2.0
PRODID:-//USA Race Walking - ECPv6.15.20//NONSGML v1.0//EN
CALSCALE:GREGORIAN
METHOD:PUBLISH
X-ORIGINAL-URL:https://usarw.racewalk.com
X-WR-CALDESC:Events for USA Race Walking
REFRESH-INTERVAL;VALUE=DURATION:PT1H
X-Robots-Tag:noindex
X-PUBLISHED-TTL:PT1H
BEGIN:VTIMEZONE
TZID:UTC
BEGIN:STANDARD
TZOFFSETFROM:+0000
TZOFFSETTO:+0000
TZNAME:UTC
DTSTART:20270101T000000
END:STANDARD
END:VTIMEZONE
BEGIN:VEVENT
DTSTART;VALUE=DATE:20280627
DTEND;VALUE=DATE:20280703
DTSTAMP:20260425T031811
CREATED:20260101T033140Z
LAST-MODIFIED:20260101T033140Z
UID:1375-1845676800-1846195199@usarw.racewalk.com
SUMMARY:2028 Youth Outdoor National Championship
DESCRIPTION:1500m (9-12) 3000m (13-18)
URL:https://usarw.racewalk.com/event/2028-youth-outdoor-national-championship/
CATEGORIES:National Championship
END:VEVENT
BEGIN:VEVENT
DTSTART;VALUE=DATE:20280724
DTEND;VALUE=DATE:20280731
DTSTAMP:20260425T031811
CREATED:20260101T034043Z
LAST-MODIFIED:20260101T034044Z
UID:1387-1848009600-1848614399@usarw.racewalk.com
SUMMARY:2028 Junior Olympic Championship
DESCRIPTION:1500m (9-12) 3000m (13-18)
URL:https://usarw.racewalk.com/event/2028-junior-olympic-championship/
CATEGORIES:National Championship
END:VEVENT
BEGIN:VEVENT
DTSTART;TZID=UTC:20280727T073000
DTEND;TZID=UTC:20280727T120000
DTSTAMP:20260425T031811
CREATED:20250715T142912Z
LAST-MODIFIED:20250715T142912Z
UID:837-1848295800-1848312000@usarw.racewalk.com
SUMMARY:2028 Olympic Games
DESCRIPTION:Half marathon
URL:https://usarw.racewalk.com/event/2028-olympic-games/
END:VEVENT
END:VCALENDAR